BEGIN:VCALENDAR
VERSION:2.0
PRODID:-//Delta School District - ECPv6.6.0.2//NONSGML v1.0//EN
CALSCALE:GREGORIAN
METHOD:PUBLISH
X-WR-CALNAME:Delta School District
X-ORIGINAL-URL:https://www.deltasd335.upanupstage.com
X-WR-CALDESC:Events for Delta School District
REFRESH-INTERVAL;VALUE=DURATION:PT1H
X-Robots-Tag:noindex
X-PUBLISHED-TTL:PT1H
BEGIN:VTIMEZONE
TZID:America/Vancouver
BEGIN:DAYLIGHT
TZOFFSETFROM:-0800
TZOFFSETTO:-0700
TZNAME:PDT
DTSTART:20210314T100000
END:DAYLIGHT
BEGIN:STANDARD
TZOFFSETFROM:-0700
TZOFFSETTO:-0800
TZNAME:PST
DTSTART:20211107T090000
END:STANDARD
END:VTIMEZONE
BEGIN:VEVENT
DTSTART;TZID=America/Vancouver:20210923T183000
DTEND;TZID=America/Vancouver:20210923T200000
DTSTAMP:20260419T230809
CREATED:20210916T235755Z
LAST-MODIFIED:20210921T161838Z
UID:8020-1632421800-1632427200@www.deltasd335.upanupstage.com
SUMMARY:Free Online Workshop: Thriving in Kindergarten to Grade 3
DESCRIPTION:Please register in advance: https://ca01web.zoom.us/meeting/register/u5UvdeGoqzIqE9eq4PR5QYSa66nhc13LLs-6
URL:https://www.deltasd335.upanupstage.com/event/free-online-workshop-thriving-in-kindergarten-to-grade-3/
CATEGORIES:District
END:VEVENT
BEGIN:VEVENT
DTSTART;TZID=America/Vancouver:20210922T183000
DTEND;TZID=America/Vancouver:20210922T200000
DTSTAMP:20260419T230809
CREATED:20210916T234657Z
LAST-MODIFIED:20210921T161533Z
UID:8017-1632335400-1632340800@www.deltasd335.upanupstage.com
SUMMARY:Free Online Workshop: Making Sense of Adolescence
DESCRIPTION:Please register in advance: https://ca01web.zoom.us/meeting/register/u5MlcOqprjguE9DYYWLgo9oBUHXHOfk_F5Tu
URL:https://www.deltasd335.upanupstage.com/event/free-online-workshop-making-sense-of-adolescence/
CATEGORIES:District
END:VEVENT
BEGIN:VEVENT
DTSTART;TZID=America/Vancouver:20210916T183000
DTEND;TZID=America/Vancouver:20210916T200000
DTSTAMP:20260419T230809
CREATED:20210910T235649Z
LAST-MODIFIED:20210910T235649Z
UID:7996-1631817000-1631822400@www.deltasd335.upanupstage.com
SUMMARY:Free parent workshop: Resilience Building in Children
DESCRIPTION:Please register in advance: https://ca01web.zoom.us/meeting/register/u5cocu2qrzMvHNAjHfcF8uFB1wTzCLsiSk6f \n 
URL:https://www.deltasd335.upanupstage.com/event/free-parent-workshop-resilience-building-in-children/
CATEGORIES:Community,District
END:VEVENT
BEGIN:VEVENT
DTSTART;VALUE=DATE:20210907
DTEND;VALUE=DATE:20210908
DTSTAMP:20260419T230809
CREATED:20220412T215240Z
LAST-MODIFIED:20220412T215240Z
UID:9039-1630972800-1631059199@www.deltasd335.upanupstage.com
SUMMARY:Schools Open
DESCRIPTION:
URL:https://www.deltasd335.upanupstage.com/event/schools-open/
END:VEVENT
BEGIN:VEVENT
DTSTART;TZID=America/Vancouver:20210901T183000
DTEND;TZID=America/Vancouver:20210901T200000
DTSTAMP:20260419T230809
CREATED:20210826T161650Z
LAST-MODIFIED:20210826T161747Z
UID:7918-1630521000-1630526400@www.deltasd335.upanupstage.com
SUMMARY:Wellness and COVID-19: Managing\, Revamping and Pressing Forward
DESCRIPTION:Please register in advance for this workshop: \nhttps://ca01web.zoom.us/meeting/register/u50qde6ppjkoEteTGzRQBG_E1h9L23v8RJe4 \nAfter registering for this workshop\, you will receive an email confirmation.
URL:https://www.deltasd335.upanupstage.com/event/7918/
CATEGORIES:Community,District
END:VEVENT
BEGIN:VEVENT
DTSTART;VALUE=DATE:20210630
DTEND;VALUE=DATE:20210701
DTSTAMP:20260419T230809
CREATED:20200707T213151Z
LAST-MODIFIED:20200923T181609Z
UID:6188-1625011200-1625097599@www.deltasd335.upanupstage.com
SUMMARY:Schools Close and Administration Day
DESCRIPTION:
URL:https://www.deltasd335.upanupstage.com/event/schools-close-and-administration-day/
CATEGORIES:District
END:VEVENT
BEGIN:VEVENT
DTSTART;VALUE=DATE:20210629
DTEND;VALUE=DATE:20210630
DTSTAMP:20260419T230809
CREATED:20200707T213049Z
LAST-MODIFIED:20200707T213845Z
UID:6186-1624924800-1625011199@www.deltasd335.upanupstage.com
SUMMARY:Last Day for Students
DESCRIPTION:
URL:https://www.deltasd335.upanupstage.com/event/last-day-for-students/
CATEGORIES:District
END:VEVENT
BEGIN:VEVENT
DTSTART;TZID=America/Vancouver:20210623T183000
DTEND;TZID=America/Vancouver:20210623T200000
DTSTAMP:20260419T230809
CREATED:20210618T182748Z
LAST-MODIFIED:20210618T183035Z
UID:7726-1624473000-1624478400@www.deltasd335.upanupstage.com
SUMMARY:Free Online Parent Workshop: Preparing for Kindergarten - Separation Anxiety
DESCRIPTION:The Delta School District is pleased to offer a workshop specifically for incoming Kindergarten parents on Separation Anxiety on June 23 at 6:30pm on Zoom. \nZoom Links:   https://zoom.us/join and enter meeting ID 502 198 9793 \nAs you look ahead to the beginning of Kindergarten in September many parents may be anticipating some anxiety for their children. We know that separation anxiety is a normal part of many children’s early experiences and that COVID-19 has significantly changed our day to day lives in significant ways. We know that for many families children have not participated in nearly as many programs and events outside their families as they typically would have. It’s more than understandable that kids (and their parents alike) may be experience some unease about starting school. \nFortunately there are many things we can do to prepare for a smooth start to school in September and to help our kids when they do experience anxiety. \nAt the workshop we will learn together about Separation Anxiety and share ideas and resources. Parents will develop a plan to work for them and their child.
URL:https://www.deltasd335.upanupstage.com/event/free-online-parent-workshop-preparing-for-kindergarten-separation-anxiety/
CATEGORIES:Community,District
END:VEVENT
BEGIN:VEVENT
DTSTART;TZID=America/Vancouver:20210602T183000
DTEND;TZID=America/Vancouver:20210602T200000
DTSTAMP:20260419T230809
CREATED:20210428T213843Z
LAST-MODIFIED:20210428T214717Z
UID:7542-1622658600-1622664000@www.deltasd335.upanupstage.com
SUMMARY:Free online parent information session: Managing Mental and Emotional  Wellness  During COVID-19
DESCRIPTION:Please register in advance: https://alongsideyou.zoom.us/webinar/register/WN_Fw6Qyrv0TaWIaoZrZZYLvg
URL:https://www.deltasd335.upanupstage.com/event/free-online-parent-information-session-managing-mental-and-emotional-wellness-during-covid-19/
CATEGORIES:Community,District
END:VEVENT
BEGIN:VEVENT
DTSTART;TZID=America/Vancouver:20210526T183000
DTEND;TZID=America/Vancouver:20210526T203000
DTSTAMP:20260419T230809
CREATED:20210518T172758Z
LAST-MODIFIED:20210518T172817Z
UID:7634-1622053800-1622061000@www.deltasd335.upanupstage.com
SUMMARY:Free Online Webinar: Supporting Neurodiverse Learners in Navigating  Puberty
DESCRIPTION:For more information and to register\, please click here: https://ca01web.zoom.us/meeting/register/u5UqcuyupzkuGt0Tc5vUkhD87qkwawvsfWww
URL:https://www.deltasd335.upanupstage.com/event/free-online-webinar-supporting-neurodiverse-learners-in-navigating-puberty/
CATEGORIES:Community,District
END:VEVENT
BEGIN:VEVENT
DTSTART;VALUE=DATE:20210524
DTEND;VALUE=DATE:20210525
DTSTAMP:20260419T230809
CREATED:20200707T213025Z
LAST-MODIFIED:20200707T213856Z
UID:6184-1621814400-1621900799@www.deltasd335.upanupstage.com
SUMMARY:Victoria Day
DESCRIPTION:
URL:https://www.deltasd335.upanupstage.com/event/victoria-day-3/
CATEGORIES:District
END:VEVENT
BEGIN:VEVENT
DTSTART;VALUE=DATE:20210521
DTEND;VALUE=DATE:20210522
DTSTAMP:20260419T230809
CREATED:20200707T213005Z
LAST-MODIFIED:20200707T213905Z
UID:6182-1621555200-1621641599@www.deltasd335.upanupstage.com
SUMMARY:Non-Instructional Day (District Wide)
DESCRIPTION:
URL:https://www.deltasd335.upanupstage.com/event/non-instructional-day-district-wide-20/
CATEGORIES:District
END:VEVENT
BEGIN:VEVENT
DTSTART;TZID=America/Vancouver:20210520T183000
DTEND;TZID=America/Vancouver:20210520T200000
DTSTAMP:20260419T230809
CREATED:20210514T172951Z
LAST-MODIFIED:20210514T172951Z
UID:7623-1621535400-1621540800@www.deltasd335.upanupstage.com
SUMMARY:Free online session: Staying Connected To Your Teen
DESCRIPTION:Please register in advance for this event: https://ca01web.zoom.us/meeting/register/u5wodeysrD0iHtJKOx6lZFeDfgkEl1dYtzZT
URL:https://www.deltasd335.upanupstage.com/event/free-online-session-staying-connected-to-your-teen/
CATEGORIES:Community,District
END:VEVENT
BEGIN:VEVENT
DTSTART;TZID=America/Vancouver:20210513T183000
DTEND;TZID=America/Vancouver:20210513T200000
DTSTAMP:20260419T230809
CREATED:20210422T204422Z
LAST-MODIFIED:20210423T190714Z
UID:7473-1620930600-1620936000@www.deltasd335.upanupstage.com
SUMMARY:Free online session for parents: How Youth are Effortlessly Lured into the Gang Lifestyle
DESCRIPTION:  \n\nRegister here: https://forms.office.com/r/1Mk7VzPQ2D
URL:https://www.deltasd335.upanupstage.com/event/free-online-session-for-parents-how-youth-are-effortlessly-lured-into-the-gang-lifestyle/
CATEGORIES:Community,District
END:VEVENT
BEGIN:VEVENT
DTSTART;TZID=America/Vancouver:20210506T183000
DTEND;TZID=America/Vancouver:20210506T200000
DTSTAMP:20260419T230809
CREATED:20210428T213247Z
LAST-MODIFIED:20210428T213451Z
UID:7539-1620325800-1620331200@www.deltasd335.upanupstage.com
SUMMARY:Free online parent information session: Growth mindset - a key to resilience for parents and students
DESCRIPTION:Please register in advance: https://alongsideyou.zoom.us/webinar/register/WN_7p16QbEJQL–9uF6W45Q5A
URL:https://www.deltasd335.upanupstage.com/event/free-online-parent-information-session-growth-mindset-a-key-to-resilience-for-parents-and-students/
CATEGORIES:Community,District
END:VEVENT
BEGIN:VEVENT
DTSTART;TZID=America/Vancouver:20210429T183000
DTEND;TZID=America/Vancouver:20210429T200000
DTSTAMP:20260419T230809
CREATED:20210419T221833Z
LAST-MODIFIED:20210419T221856Z
UID:7450-1619721000-1619726400@www.deltasd335.upanupstage.com
SUMMARY:Free online session for parents/guardians presented by Safeteen: Navigating Adolescence
DESCRIPTION:Please register in advance at: https://ca01web.zoom.us/meeting/register/u5wqd-yvqTwsH9xgvRvcETNWNDdRN2fbsvRi
URL:https://www.deltasd335.upanupstage.com/event/free-online-session-for-parents-guardians-presented-by-safeteen-navigating-adolescence/
CATEGORIES:Community,District
ATTACH;FMTTYPE=image/jpeg:https://district.public.deltasd335.upanupstage.com/wp-content/uploads/sites/2/2017/07/photo-04.jpg
END:VEVENT
BEGIN:VEVENT
DTSTART;TZID=America/Vancouver:20210424T190000
DTEND;TZID=America/Vancouver:20210424T210000
DTSTAMP:20260419T230809
CREATED:20210422T182538Z
LAST-MODIFIED:20210422T182547Z
UID:7470-1619290800-1619298000@www.deltasd335.upanupstage.com
SUMMARY:Seaquam Theatre Company Presents 'Journey Through the Decades' via livestream
DESCRIPTION:Watch the show here: https://sportswavetv.yaretv.com/watch/637-sportswavetv-journey-through-the-decades-a-broadway-musical-theatre-revue
URL:https://www.deltasd335.upanupstage.com/event/seaquam-theatre-company-presents-journey-through-the-decades-via-livestream-3/
CATEGORIES:Community,District
ATTACH;FMTTYPE=image/jpeg:https://district.public.deltasd335.upanupstage.com/wp-content/uploads/sites/2/2021/04/Journey-through-the-decades-image_Page_1.jpg
END:VEVENT
BEGIN:VEVENT
DTSTART;TZID=America/Vancouver:20210423T190000
DTEND;TZID=America/Vancouver:20210423T210000
DTSTAMP:20260419T230809
CREATED:20210422T182257Z
LAST-MODIFIED:20210422T182322Z
UID:7468-1619204400-1619211600@www.deltasd335.upanupstage.com
SUMMARY:Seaquam Theatre Company presents 'Journey Through the Decades' via livestream
DESCRIPTION:Watch the show here: https://sportswavetv.yaretv.com/watch/636-sportswavetv-journey-through-the-decades-a-broadway-musical-theatre-revue
URL:https://www.deltasd335.upanupstage.com/event/seaquam-theatre-company-presents-journey-through-the-decades-via-livestream-2/
CATEGORIES:Community,District
ATTACH;FMTTYPE=image/jpeg:https://district.public.deltasd335.upanupstage.com/wp-content/uploads/sites/2/2021/04/Journey-through-the-decades-image_Page_1.jpg
END:VEVENT
BEGIN:VEVENT
DTSTART;TZID=America/Vancouver:20210422T190000
DTEND;TZID=America/Vancouver:20210422T210000
DTSTAMP:20260419T230809
CREATED:20210422T181847Z
LAST-MODIFIED:20210422T182703Z
UID:7459-1619118000-1619125200@www.deltasd335.upanupstage.com
SUMMARY:Seaquam Theatre Company presents 'Journey Through the Decades' via livestream
DESCRIPTION:Watch the show here: https://sportswavetv.yaretv.com/watch/635-sportswavetv-journey-through-the-decades-a-broadway-musical-theatre-revue
URL:https://www.deltasd335.upanupstage.com/event/seaquam-theatre-company-presents-journey-through-the-decades-via-livestream/
CATEGORIES:Community,District
ATTACH;FMTTYPE=image/jpeg:https://district.public.deltasd335.upanupstage.com/wp-content/uploads/sites/2/2021/04/Journey-through-the-decades-image_Page_1.jpg
END:VEVENT
BEGIN:VEVENT
DTSTART;TZID=America/Vancouver:20210422T183000
DTEND;TZID=America/Vancouver:20210422T193000
DTSTAMP:20260419T230809
CREATED:20210203T201538Z
LAST-MODIFIED:20210203T201757Z
UID:7115-1619116200-1619119800@www.deltasd335.upanupstage.com
SUMMARY:Free Information Session:  Delta Early Childhood Education Post-Basic Studies for Special Needs and Infant/Toddler
DESCRIPTION:The Post-Basic studies program provides an opportunity for educational advancement for ECE graduates\, with advanced courses preparing graduates to work in integrated settings with children requiring extra support\, and/or to work with children under three years old. \nStudents may start in April\, September\, or January.    \nFor more detailed information about the program\, please visit:  https://deltalearns.ca/eceprogram/2017/04/10/post-basic-studies-for-special-needs-and-infant-toddler/ \nONLINE ZOOM Information Meeting:   Please pre-register at http://connect37.deltasd335.upanupstage.com. (search using event code ECE002-2) \nAll registrants will be e-mailed a Zoom meeting invitation prior to their session.
URL:https://www.deltasd335.upanupstage.com/event/free-information-session-delta-early-childhood-education-post-basic-studies-for-special-needs-and-infant-toddler-2/
CATEGORIES:Community,District
END:VEVENT
BEGIN:VEVENT
DTSTART;TZID=America/Vancouver:20210421T183000
DTEND;TZID=America/Vancouver:20210421T193000
DTSTAMP:20260419T230809
CREATED:20210203T200207Z
LAST-MODIFIED:20210413T165016Z
UID:7109-1619029800-1619033400@www.deltasd335.upanupstage.com
SUMMARY:Free Information Session: Early Childhood Education Basic Certificate\, 2 Year Part-Time Evening Program\, Fall 2021 (North Delta)
DESCRIPTION:This free information session will provide information about the Delta E.C.E. Program and about becoming licensed as an early childhood educator. \nFor more detailed information\, please visit:  https://deltalearns.ca/eceprogram/ \nONLINE ZOOM Information Meeting:  Please pre-register at https://cimsweb.deltasd335.upanupstage.com/publicconnect/DEEvents.aspx (search for event code ECE001-1) \nAll registrants will be e-mailed a Zoom meeting invitation prior to their session. \n    
URL:https://www.deltasd335.upanupstage.com/event/free-information-session-early-childhood-education-basic-certificate-2-year-part-time-evening-program-fall-2021-north-delta/
CATEGORIES:Community,District
END:VEVENT
BEGIN:VEVENT
DTSTART;TZID=America/Vancouver:20210414T183000
DTEND;TZID=America/Vancouver:20210414T200000
DTSTAMP:20260419T230809
CREATED:20210410T000527Z
LAST-MODIFIED:20210410T000646Z
UID:7413-1618425000-1618430400@www.deltasd335.upanupstage.com
SUMMARY:Free online session: A parent's role in IEP
DESCRIPTION:To register\, please visit: https://ca01web.zoom.us/meeting/register/u50pce-rrDwjE9Xidtc1wm4LgSYDiOgFuCK9
URL:https://www.deltasd335.upanupstage.com/event/free-online-session-a-parents-role-in-iep/
END:VEVENT
BEGIN:VEVENT
DTSTART;TZID=America/Vancouver:20210408T180000
DTEND;TZID=America/Vancouver:20210408T193000
DTSTAMP:20260419T230809
CREATED:20210401T161645Z
LAST-MODIFIED:20210401T161654Z
UID:7382-1617904800-1617910200@www.deltasd335.upanupstage.com
SUMMARY:Free workshop: Exploring our relationship with alcohol during stressful times
DESCRIPTION:Please register in advance: \nhttps://ca01web.zoom.us/meeting/register/u5UpduCqqj8uHtbwgdvfzFoNsSRRCWQW6m5F
URL:https://www.deltasd335.upanupstage.com/event/free-workshop-exploring-our-relationship-with-alcohol-during-stressful-times/
CATEGORIES:Community,District
END:VEVENT
BEGIN:VEVENT
DTSTART;VALUE=DATE:20210405
DTEND;VALUE=DATE:20210406
DTSTAMP:20260419T230809
CREATED:20200707T212937Z
LAST-MODIFIED:20200707T213916Z
UID:6180-1617580800-1617667199@www.deltasd335.upanupstage.com
SUMMARY:Easter Monday
DESCRIPTION:
URL:https://www.deltasd335.upanupstage.com/event/easter-monday-3/
CATEGORIES:District
END:VEVENT
BEGIN:VEVENT
DTSTART;VALUE=DATE:20210402
DTEND;VALUE=DATE:20210403
DTSTAMP:20260419T230809
CREATED:20200707T212907Z
LAST-MODIFIED:20200707T213926Z
UID:6178-1617321600-1617407999@www.deltasd335.upanupstage.com
SUMMARY:Good Friday
DESCRIPTION:
URL:https://www.deltasd335.upanupstage.com/event/good-friday-3/
CATEGORIES:District
END:VEVENT
BEGIN:VEVENT
DTSTART;VALUE=DATE:20210329
DTEND;VALUE=DATE:20210330
DTSTAMP:20260419T230809
CREATED:20200707T212840Z
LAST-MODIFIED:20200707T213937Z
UID:6176-1616976000-1617062399@www.deltasd335.upanupstage.com
SUMMARY:Schools Reopen after Spring Vacation
DESCRIPTION:
URL:https://www.deltasd335.upanupstage.com/event/schools-reopen-after-spring-vacation/
CATEGORIES:District
END:VEVENT
BEGIN:VEVENT
DTSTART;TZID=America/Vancouver:20210318T183000
DTEND;TZID=America/Vancouver:20210318T200000
DTSTAMP:20260419T230809
CREATED:20210312T191555Z
LAST-MODIFIED:20210312T223703Z
UID:7326-1616092200-1616097600@www.deltasd335.upanupstage.com
SUMMARY:A Parent's Role in IEP Development: Online Session with Suzanne Perreault
DESCRIPTION:Please register in advance: https://ca01web.zoom.us/meeting/register/u50lcO-qrzsvE9b0zqz97hD5NBuk9mMwgPrL  \n 
URL:https://www.deltasd335.upanupstage.com/event/a-parents-role-in-iep-development-online-session-with-suzanne-perreault-2/
CATEGORIES:Community,District
END:VEVENT
BEGIN:VEVENT
DTSTART;VALUE=DATE:20210313
DTEND;VALUE=DATE:20210329
DTSTAMP:20260419T230809
CREATED:20200707T212821Z
LAST-MODIFIED:20200707T213954Z
UID:6174-1615593600-1616975999@www.deltasd335.upanupstage.com
SUMMARY:Spring Vacation Period
DESCRIPTION:
URL:https://www.deltasd335.upanupstage.com/event/spring-vacation-period-2/
CATEGORIES:District
END:VEVENT
BEGIN:VEVENT
DTSTART;TZID=America/Vancouver:20210311T183000
DTEND;TZID=America/Vancouver:20210311T203000
DTSTAMP:20260419T230809
CREATED:20210306T041747Z
LAST-MODIFIED:20210306T041747Z
UID:7309-1615487400-1615494600@www.deltasd335.upanupstage.com
SUMMARY:Free online session for parents: Social Media Awareness\, Digital Citizenship and Cyberbullying
DESCRIPTION:Please register in advance:
URL:https://www.deltasd335.upanupstage.com/event/free-online-session-for-parents-social-media-awareness-digital-citizenship-and-cyberbullying/
CATEGORIES:Community,District
END:VEVENT
BEGIN:VEVENT
DTSTART;TZID=America/Vancouver:20210310T183000
DTEND;TZID=America/Vancouver:20210310T200000
DTSTAMP:20260419T230809
CREATED:20210304T225346Z
LAST-MODIFIED:20210304T225502Z
UID:7299-1615401000-1615406400@www.deltasd335.upanupstage.com
SUMMARY:Free online parenting workshop: Understanding your child's needs during the pandemic
DESCRIPTION:Please register in advance: https://ca01web.zoom.us/meeting/register/u5Ykc–vpz0pGdFwpzFOvipRrrSYPsJzRUec
URL:https://www.deltasd335.upanupstage.com/event/7299/
CATEGORIES:Community,District
END:VEVENT
END:VCALENDAR