BEGIN:VCALENDAR
VERSION:2.0
PRODID:-//Delta School District - ECPv6.6.0.2//NONSGML v1.0//EN
CALSCALE:GREGORIAN
METHOD:PUBLISH
X-WR-CALNAME:Delta School District
X-ORIGINAL-URL:https://www.deltasd335.upanupstage.com
X-WR-CALDESC:Events for Delta School District
REFRESH-INTERVAL;VALUE=DURATION:PT1H
X-Robots-Tag:noindex
X-PUBLISHED-TTL:PT1H
BEGIN:VTIMEZONE
TZID:America/Vancouver
BEGIN:DAYLIGHT
TZOFFSETFROM:-0800
TZOFFSETTO:-0700
TZNAME:PDT
DTSTART:20210314T100000
END:DAYLIGHT
BEGIN:STANDARD
TZOFFSETFROM:-0700
TZOFFSETTO:-0800
TZNAME:PST
DTSTART:20211107T090000
END:STANDARD
END:VTIMEZONE
BEGIN:VEVENT
DTSTART;TZID=America/Vancouver:20211216T183000
DTEND;TZID=America/Vancouver:20211216T200000
DTSTAMP:20260419T215924
CREATED:20211213T173627Z
LAST-MODIFIED:20211216T012023Z
UID:8462-1639679400-1639684800@www.deltasd335.upanupstage.com
SUMMARY:CANCELLED: Be Safe\, Be Kind\, Be Thoughtful - Substances and the Holidays
DESCRIPTION:December 15: Please note this event has been cancelled. \n\n 
URL:https://www.deltasd335.upanupstage.com/event/free-online-session-be-safe-be-kind-be-thoughtful-substances-and-the-holidays/
CATEGORIES:District
END:VEVENT
BEGIN:VEVENT
DTSTART;TZID=America/Vancouver:20211209T190000
DTEND;TZID=America/Vancouver:20211209T200000
DTSTAMP:20260419T215924
CREATED:20211204T001058Z
LAST-MODIFIED:20211204T001128Z
UID:8433-1639076400-1639080000@www.deltasd335.upanupstage.com
SUMMARY:Free Online Webinar: Career Exploration Conversations
DESCRIPTION:Please register in advance: https://zoom.us/webinar/register/WN_I7_pyoAqR4KPuci4xGWq0Q
URL:https://www.deltasd335.upanupstage.com/event/free-online-webinar-career-exploration-conversations/
CATEGORIES:District
END:VEVENT
BEGIN:VEVENT
DTSTART;TZID=America/Vancouver:20211209T183000
DTEND;TZID=America/Vancouver:20211209T200000
DTSTAMP:20260419T215924
CREATED:20211208T171756Z
LAST-MODIFIED:20211208T171756Z
UID:8451-1639074600-1639080000@www.deltasd335.upanupstage.com
SUMMARY:Free online session: A parent's role in IEP development
DESCRIPTION:Please register in advance to receive instructions on how to join this session: https://us02web.zoom.us/meeting/register/tZMtf-yorj4tG9HVB3e5wIzJ2RbQuk-VE54- \n\n  \n 
URL:https://www.deltasd335.upanupstage.com/event/free-online-session-a-parents-role-in-iep-development/
CATEGORIES:District
END:VEVENT
BEGIN:VEVENT
DTSTART;TZID=America/Vancouver:20211202T183000
DTEND;TZID=America/Vancouver:20211202T193000
DTSTAMP:20260419T215924
CREATED:20211125T235934Z
LAST-MODIFIED:20211126T000321Z
UID:8388-1638469800-1638473400@www.deltasd335.upanupstage.com
SUMMARY:Early French Immersion - Online Question and Answer Session
DESCRIPTION:A Question and Answer period will be held via Zoom on December 2nd at 6:30pm. \nTo join the Zoom Online Question and Answer periods on Dec 2nd\, please register for the Parent Question and Answer session on our website here: https://docs.google.com/forms/d/e/1FAIpQLSfDOuqpCxJorCxsgCSJ3dUbTT_Q1kJgTa8FNb6NFsRLHTlHlw/viewform \nPlease review this video before participating in the Online Q&A session: \n \n 
URL:https://www.deltasd335.upanupstage.com/event/early-french-immersion-online-question-and-answer-session-2/
CATEGORIES:District
END:VEVENT
BEGIN:VEVENT
DTSTART;TZID=America/Vancouver:20211202T183000
DTEND;TZID=America/Vancouver:20211202T193000
DTSTAMP:20260419T215924
CREATED:20210921T184446Z
LAST-MODIFIED:20210921T184446Z
UID:8054-1638469800-1638473400@www.deltasd335.upanupstage.com
SUMMARY:Early Childhood Education Post-Basic Studies For Special Needs And Infant/ Toddler: Free Online Information Session
DESCRIPTION:The Post-Basic studies program provides an opportunity for career and educational advancement for ECE graduates leading to a Certificate to Practice as a Special Needs Early Childhood Educator and/or a Certificate to Practice as an Infant and Toddler Early Childhood Educator\, working with children under three years old. \nPlease pre-register for this information session at 604-940-5550 or at http://connect37.deltasd335.upanupstage.com. \nCourse code: ECE002-2 \nLocation: Online via Zoom
URL:https://www.deltasd335.upanupstage.com/event/early-childhood-education-post-basic-studies-for-special-needs-and-infant-toddler-free-online-information-session-2/
CATEGORIES:Community,District
END:VEVENT
BEGIN:VEVENT
DTSTART;TZID=America/Vancouver:20211201T183000
DTEND;TZID=America/Vancouver:20211201T193000
DTSTAMP:20260419T215924
CREATED:20211125T235756Z
LAST-MODIFIED:20211126T222050Z
UID:8383-1638383400-1638387000@www.deltasd335.upanupstage.com
SUMMARY:Early French Immersion - Online Question and Answer Session
DESCRIPTION:A Question and Answer period will be held via Zoom on December 1st at 6:30pm. \nPlease register for the Parent Question and Answer session on our website here: https://docs.google.com/forms/d/e/1FAIpQLSfDOuqpCxJorCxsgCSJ3dUbTT_Q1kJgTa8FNb6NFsRLHTlHlw/viewform \nPlease review this video before participating in the Online Q&A session: \n \n 
URL:https://www.deltasd335.upanupstage.com/event/early-french-immersion-online-question-and-answer-session/
CATEGORIES:District
END:VEVENT
BEGIN:VEVENT
DTSTART;TZID=America/Vancouver:20211130T183000
DTEND;TZID=America/Vancouver:20211130T193000
DTSTAMP:20260419T215924
CREATED:20210921T184255Z
LAST-MODIFIED:20210921T184255Z
UID:8049-1638297000-1638300600@www.deltasd335.upanupstage.com
SUMMARY:Early Childhood Educator Assistant Certificate – Part-time: Free Online Information Session
DESCRIPTION:This program is specifically designed to meet the needs of those wanting to obtain an Early Childhood Educator Assistant Certificate while ensuring that they receive a more thorough grounding in Early Childhood Education than just the required single course of training. \nPlease pre-register for this information session at 604-940-5550 or at http://connect37.deltasd335.upanupstage.com. \nCourse code: ECE003-2 \nLocation: Online via Zoom
URL:https://www.deltasd335.upanupstage.com/event/early-childhood-educator-assistant-certificate-part-time-free-online-information-session-2/
CATEGORIES:Community,District
END:VEVENT
BEGIN:VEVENT
DTSTART;VALUE=DATE:20211129
DTEND;VALUE=DATE:20211130
DTSTAMP:20260419T215924
CREATED:20220412T215007Z
LAST-MODIFIED:20220412T215007Z
UID:9027-1638144000-1638230399@www.deltasd335.upanupstage.com
SUMMARY:Non-Instructional Day
DESCRIPTION:
URL:https://www.deltasd335.upanupstage.com/event/non-instructional-day-4/
END:VEVENT
BEGIN:VEVENT
DTSTART;TZID=America/Vancouver:20211123T190000
DTEND;TZID=America/Vancouver:20211123T200000
DTSTAMP:20260419T215924
CREATED:20211123T231032Z
LAST-MODIFIED:20211123T231032Z
UID:8365-1637694000-1637697600@www.deltasd335.upanupstage.com
SUMMARY:Online webinar: Career Exploration Conversations
DESCRIPTION:Please register in advance: https://zoom.us/webinar/register/WN_tL8N2d3URXa1IMVvrkU-pA
URL:https://www.deltasd335.upanupstage.com/event/online-webinar-career-exploration-conversations/
CATEGORIES:District
END:VEVENT
BEGIN:VEVENT
DTSTART;TZID=America/Vancouver:20211112T193000
DTEND;TZID=America/Vancouver:20211112T210000
DTSTAMP:20260419T215924
CREATED:20211014T232333Z
LAST-MODIFIED:20211014T232415Z
UID:8165-1636745400-1636750800@www.deltasd335.upanupstage.com
SUMMARY:Burnsview Musical Theatre Class Presents: All Together Now!
DESCRIPTION:Burnsview Secondary Announces an Upcoming Production of Music Theatre International’s All Together Now!: A Global Event Celebrating Local Theatre \nPerformance to take place online on November 12\, 2021. TICKETS ARE AVAILABLE HERE: https://www.eventbrite.ca/e/burnsview-drama-presents-all-together-now-an-online-musical-review-tickets-190556789487 \nA fantastic selection of songs are featured in this brand new musical revue from shows including: Matilda\, Hairspray\, Disney’s Beauty and the Beast\, Fiddler on the Roof\, High School Musical\, Jekyll and Hyde\, Annie\, Mary Poppins\, Godspell\, Waitress\, Mamma Mia! and many more! \nBurnsview Drama announced that they will be joining thousands of theatrical organizations around the globe by producing their own local production of Music Theatre International’s All Together Now!: A Global Event Celebrating Local Theatre. Theatrical licensor Music Theatre International (MTI) created this revue for theatres across the globe to use as a local fundraising event performed over the same weekend of November 12\, 2021.   \nBurnsview’s performance is scheduled for November 12th only and will be showcasing the talent of its current Musical Theatre class\, and bringing back alumni from previous shows as well. It’s a one-of-a-kind opportunity to celebrate our Burnsview community and history\, which is celebrating 50 years of learning in Delta this year. It’s going to be a fun night of memories\, music and magic! \n“We are incredibly excited to celebrate the return of live theatre with performances of MTI’s All Together Now!\,” stated Ms Stark\, teacher\, Burnsview Secondary. “The past year has been a challenging time for everyone\, particularly arts organizations. We look forward to welcoming our patrons back with this truly wonderful revue.”
URL:https://www.deltasd335.upanupstage.com/event/burnsview-musical-theatre-class-presents-all-together-now/
CATEGORIES:Community
END:VEVENT
BEGIN:VEVENT
DTSTART;VALUE=DATE:20211111
DTEND;VALUE=DATE:20211112
DTSTAMP:20260419T215924
CREATED:20220412T215027Z
LAST-MODIFIED:20220412T215027Z
UID:9029-1636588800-1636675199@www.deltasd335.upanupstage.com
SUMMARY:Remembrance Day
DESCRIPTION:
URL:https://www.deltasd335.upanupstage.com/event/remembrance-day/
END:VEVENT
BEGIN:VEVENT
DTSTART;TZID=America/Vancouver:20211027T183000
DTEND;TZID=America/Vancouver:20211027T193000
DTSTAMP:20260419T215924
CREATED:20210921T184045Z
LAST-MODIFIED:20210921T184045Z
UID:8047-1635359400-1635363000@www.deltasd335.upanupstage.com
SUMMARY:Early Childhood Education Post-Basic Studies For Special Needs And Infant/ Toddler: Free Online Information Session
DESCRIPTION:The Post-Basic studies program provides an opportunity for career and educational advancement for ECE graduates leading to a Certificate to Practice as a Special Needs Early Childhood Educator and/or a Certificate to Practice as an Infant/ Toddler Early Childhood Educator\, working with children under three years old. \nPlease pre-register for this information session at 604-940-5550 or at http://connect37.deltasd335.upanupstage.com. \nCourse code: ECE002-1 \nLocation: Online via Zoom
URL:https://www.deltasd335.upanupstage.com/event/early-childhood-education-post-basic-studies-for-special-needs-and-infant-toddler-free-online-information-session/
CATEGORIES:Community,District
END:VEVENT
BEGIN:VEVENT
DTSTART;TZID=America/Vancouver:20211026T183000
DTEND;TZID=America/Vancouver:20211026T193000
DTSTAMP:20260419T215924
CREATED:20210921T183840Z
LAST-MODIFIED:20210921T183903Z
UID:8044-1635273000-1635276600@www.deltasd335.upanupstage.com
SUMMARY:Early Childhood Educator Assistant Certificate – Part-time: Free Online Information Session
DESCRIPTION:This program is specifically designed to meet the needs of those wanting to obtain an Early Childhood Educator Assistant Certificate while ensuring that they receive a more thorough grounding in Early Childhood Education than just the required single course of training. \nPlease pre-register for this information session at 604-940-5550 or at http://connect37.deltasd335.upanupstage.com. \nCourse ID: ECE003-1 \nLocation: Online via Zoom
URL:https://www.deltasd335.upanupstage.com/event/early-childhood-educator-assistant-certificate-part-time-free-online-information-session/
CATEGORIES:Community,District
END:VEVENT
BEGIN:VEVENT
DTSTART;VALUE=DATE:20211022
DTEND;VALUE=DATE:20211023
DTSTAMP:20260419T215924
CREATED:20220412T215052Z
LAST-MODIFIED:20220412T215052Z
UID:9031-1634860800-1634947199@www.deltasd335.upanupstage.com
SUMMARY:Non-Instructional Day
DESCRIPTION:
URL:https://www.deltasd335.upanupstage.com/event/non-instructional-day-5/
END:VEVENT
BEGIN:VEVENT
DTSTART;TZID=America/Vancouver:20211021T183000
DTEND;TZID=America/Vancouver:20211021T200000
DTSTAMP:20260419T215924
CREATED:20211006T211325Z
LAST-MODIFIED:20211006T211325Z
UID:8142-1634841000-1634846400@www.deltasd335.upanupstage.com
SUMMARY:Free Online Session: Online Dating in the Teen World
DESCRIPTION:Please register in advance at: https://ca01web.zoom.us/meeting/register/u5YsdOGqqDkuGdfgMs_uyV7fP2t%203eNkhMU6c 
URL:https://www.deltasd335.upanupstage.com/event/free-online-session-online-dating-in-the-teen-world/
CATEGORIES:District
END:VEVENT
BEGIN:VEVENT
DTSTART;TZID=America/Vancouver:20211014T160000
DTEND;TZID=America/Vancouver:20211014T200000
DTSTAMP:20260419T215924
CREATED:20211013T163803Z
LAST-MODIFIED:20211013T163815Z
UID:8158-1634227200-1634241600@www.deltasd335.upanupstage.com
SUMMARY:Delview's Annual Thanks 4 Giving Food Drive
DESCRIPTION:Please consider bringing cash or non-perishable food items for Delview Secondary’s 29th annual Thanks 4 Giving food drive on Thursday\, October 14 – thank you!
URL:https://www.deltasd335.upanupstage.com/event/delviews-annual-thanks-4-giving-food-drive/
CATEGORIES:Community
ATTACH;FMTTYPE=image/jpeg:https://district.public.deltasd335.upanupstage.com/wp-content/uploads/sites/2/2021/10/Thanks-4-Giving.jpg
END:VEVENT
BEGIN:VEVENT
DTSTART;VALUE=DATE:20211011
DTEND;VALUE=DATE:20211012
DTSTAMP:20260419T215924
CREATED:20220412T215114Z
LAST-MODIFIED:20220412T215114Z
UID:9033-1633910400-1633996799@www.deltasd335.upanupstage.com
SUMMARY:Thanksgiving Day
DESCRIPTION:
URL:https://www.deltasd335.upanupstage.com/event/thanksgiving-day/
END:VEVENT
BEGIN:VEVENT
DTSTART;TZID=America/Vancouver:20211007T183000
DTEND;TZID=America/Vancouver:20211007T200000
DTSTAMP:20260419T215924
CREATED:20210929T024618Z
LAST-MODIFIED:20210929T024618Z
UID:8078-1633631400-1633636800@www.deltasd335.upanupstage.com
SUMMARY:Free Online Session: Individual Education Plan and Language - What Parents and Caregivers Need to Know
DESCRIPTION:Please register in advance: https://us02web.zoom.us/meeting/register/tZEufu-qrDsjHdMaHp7uI-SA2ikgPO26HOaZ
URL:https://www.deltasd335.upanupstage.com/event/free-online-session-individual-education-plan-and-language-what-parents-and-caregivers-need-to-know/
CATEGORIES:Community,District
END:VEVENT
BEGIN:VEVENT
DTSTART;VALUE=DATE:20210930
DTEND;VALUE=DATE:20211001
DTSTAMP:20260419T215924
CREATED:20210827T164245Z
LAST-MODIFIED:20210827T164245Z
UID:7926-1632960000-1633046399@www.deltasd335.upanupstage.com
SUMMARY:Truth and Reconciliation Day
DESCRIPTION:
URL:https://www.deltasd335.upanupstage.com/event/truth-and-reconciliation-day/
END:VEVENT
BEGIN:VEVENT
DTSTART;VALUE=DATE:20210924
DTEND;VALUE=DATE:20210925
DTSTAMP:20260419T215924
CREATED:20220412T215210Z
LAST-MODIFIED:20220412T215210Z
UID:9037-1632441600-1632527999@www.deltasd335.upanupstage.com
SUMMARY:Non-Instructional Day
DESCRIPTION:
URL:https://www.deltasd335.upanupstage.com/event/non-instructional-day-6/
END:VEVENT
BEGIN:VEVENT
DTSTART;TZID=America/Vancouver:20210923T183000
DTEND;TZID=America/Vancouver:20210923T200000
DTSTAMP:20260419T215924
CREATED:20210916T235755Z
LAST-MODIFIED:20210921T161838Z
UID:8020-1632421800-1632427200@www.deltasd335.upanupstage.com
SUMMARY:Free Online Workshop: Thriving in Kindergarten to Grade 3
DESCRIPTION:Please register in advance: https://ca01web.zoom.us/meeting/register/u5UvdeGoqzIqE9eq4PR5QYSa66nhc13LLs-6
URL:https://www.deltasd335.upanupstage.com/event/free-online-workshop-thriving-in-kindergarten-to-grade-3/
CATEGORIES:District
END:VEVENT
BEGIN:VEVENT
DTSTART;TZID=America/Vancouver:20210922T183000
DTEND;TZID=America/Vancouver:20210922T200000
DTSTAMP:20260419T215924
CREATED:20210916T234657Z
LAST-MODIFIED:20210921T161533Z
UID:8017-1632335400-1632340800@www.deltasd335.upanupstage.com
SUMMARY:Free Online Workshop: Making Sense of Adolescence
DESCRIPTION:Please register in advance: https://ca01web.zoom.us/meeting/register/u5MlcOqprjguE9DYYWLgo9oBUHXHOfk_F5Tu
URL:https://www.deltasd335.upanupstage.com/event/free-online-workshop-making-sense-of-adolescence/
CATEGORIES:District
END:VEVENT
BEGIN:VEVENT
DTSTART;TZID=America/Vancouver:20210916T183000
DTEND;TZID=America/Vancouver:20210916T200000
DTSTAMP:20260419T215924
CREATED:20210910T235649Z
LAST-MODIFIED:20210910T235649Z
UID:7996-1631817000-1631822400@www.deltasd335.upanupstage.com
SUMMARY:Free parent workshop: Resilience Building in Children
DESCRIPTION:Please register in advance: https://ca01web.zoom.us/meeting/register/u5cocu2qrzMvHNAjHfcF8uFB1wTzCLsiSk6f \n 
URL:https://www.deltasd335.upanupstage.com/event/free-parent-workshop-resilience-building-in-children/
CATEGORIES:Community,District
END:VEVENT
BEGIN:VEVENT
DTSTART;VALUE=DATE:20210907
DTEND;VALUE=DATE:20210908
DTSTAMP:20260419T215924
CREATED:20220412T215240Z
LAST-MODIFIED:20220412T215240Z
UID:9039-1630972800-1631059199@www.deltasd335.upanupstage.com
SUMMARY:Schools Open
DESCRIPTION:
URL:https://www.deltasd335.upanupstage.com/event/schools-open/
END:VEVENT
BEGIN:VEVENT
DTSTART;TZID=America/Vancouver:20210901T183000
DTEND;TZID=America/Vancouver:20210901T200000
DTSTAMP:20260419T215924
CREATED:20210826T161650Z
LAST-MODIFIED:20210826T161747Z
UID:7918-1630521000-1630526400@www.deltasd335.upanupstage.com
SUMMARY:Wellness and COVID-19: Managing\, Revamping and Pressing Forward
DESCRIPTION:Please register in advance for this workshop: \nhttps://ca01web.zoom.us/meeting/register/u50qde6ppjkoEteTGzRQBG_E1h9L23v8RJe4 \nAfter registering for this workshop\, you will receive an email confirmation.
URL:https://www.deltasd335.upanupstage.com/event/7918/
CATEGORIES:Community,District
END:VEVENT
BEGIN:VEVENT
DTSTART;VALUE=DATE:20210630
DTEND;VALUE=DATE:20210701
DTSTAMP:20260419T215924
CREATED:20200707T213151Z
LAST-MODIFIED:20200923T181609Z
UID:6188-1625011200-1625097599@www.deltasd335.upanupstage.com
SUMMARY:Schools Close and Administration Day
DESCRIPTION:
URL:https://www.deltasd335.upanupstage.com/event/schools-close-and-administration-day/
CATEGORIES:District
END:VEVENT
BEGIN:VEVENT
DTSTART;VALUE=DATE:20210629
DTEND;VALUE=DATE:20210630
DTSTAMP:20260419T215924
CREATED:20200707T213049Z
LAST-MODIFIED:20200707T213845Z
UID:6186-1624924800-1625011199@www.deltasd335.upanupstage.com
SUMMARY:Last Day for Students
DESCRIPTION:
URL:https://www.deltasd335.upanupstage.com/event/last-day-for-students/
CATEGORIES:District
END:VEVENT
BEGIN:VEVENT
DTSTART;TZID=America/Vancouver:20210623T183000
DTEND;TZID=America/Vancouver:20210623T200000
DTSTAMP:20260419T215924
CREATED:20210618T182748Z
LAST-MODIFIED:20210618T183035Z
UID:7726-1624473000-1624478400@www.deltasd335.upanupstage.com
SUMMARY:Free Online Parent Workshop: Preparing for Kindergarten - Separation Anxiety
DESCRIPTION:The Delta School District is pleased to offer a workshop specifically for incoming Kindergarten parents on Separation Anxiety on June 23 at 6:30pm on Zoom. \nZoom Links:   https://zoom.us/join and enter meeting ID 502 198 9793 \nAs you look ahead to the beginning of Kindergarten in September many parents may be anticipating some anxiety for their children. We know that separation anxiety is a normal part of many children’s early experiences and that COVID-19 has significantly changed our day to day lives in significant ways. We know that for many families children have not participated in nearly as many programs and events outside their families as they typically would have. It’s more than understandable that kids (and their parents alike) may be experience some unease about starting school. \nFortunately there are many things we can do to prepare for a smooth start to school in September and to help our kids when they do experience anxiety. \nAt the workshop we will learn together about Separation Anxiety and share ideas and resources. Parents will develop a plan to work for them and their child.
URL:https://www.deltasd335.upanupstage.com/event/free-online-parent-workshop-preparing-for-kindergarten-separation-anxiety/
CATEGORIES:Community,District
END:VEVENT
BEGIN:VEVENT
DTSTART;TZID=America/Vancouver:20210602T183000
DTEND;TZID=America/Vancouver:20210602T200000
DTSTAMP:20260419T215924
CREATED:20210428T213843Z
LAST-MODIFIED:20210428T214717Z
UID:7542-1622658600-1622664000@www.deltasd335.upanupstage.com
SUMMARY:Free online parent information session: Managing Mental and Emotional  Wellness  During COVID-19
DESCRIPTION:Please register in advance: https://alongsideyou.zoom.us/webinar/register/WN_Fw6Qyrv0TaWIaoZrZZYLvg
URL:https://www.deltasd335.upanupstage.com/event/free-online-parent-information-session-managing-mental-and-emotional-wellness-during-covid-19/
CATEGORIES:Community,District
END:VEVENT
BEGIN:VEVENT
DTSTART;TZID=America/Vancouver:20210526T183000
DTEND;TZID=America/Vancouver:20210526T203000
DTSTAMP:20260419T215924
CREATED:20210518T172758Z
LAST-MODIFIED:20210518T172817Z
UID:7634-1622053800-1622061000@www.deltasd335.upanupstage.com
SUMMARY:Free Online Webinar: Supporting Neurodiverse Learners in Navigating  Puberty
DESCRIPTION:For more information and to register\, please click here: https://ca01web.zoom.us/meeting/register/u5UqcuyupzkuGt0Tc5vUkhD87qkwawvsfWww
URL:https://www.deltasd335.upanupstage.com/event/free-online-webinar-supporting-neurodiverse-learners-in-navigating-puberty/
CATEGORIES:Community,District
END:VEVENT
END:VCALENDAR