BEGIN:VCALENDAR
VERSION:2.0
PRODID:-//Delta School District - ECPv6.6.0.2//NONSGML v1.0//EN
CALSCALE:GREGORIAN
METHOD:PUBLISH
X-WR-CALNAME:Delta School District
X-ORIGINAL-URL:https://www.deltasd335.upanupstage.com
X-WR-CALDESC:Events for Delta School District
REFRESH-INTERVAL;VALUE=DURATION:PT1H
X-Robots-Tag:noindex
X-PUBLISHED-TTL:PT1H
BEGIN:VTIMEZONE
TZID:America/Vancouver
BEGIN:DAYLIGHT
TZOFFSETFROM:-0800
TZOFFSETTO:-0700
TZNAME:PDT
DTSTART:20220313T100000
END:DAYLIGHT
BEGIN:STANDARD
TZOFFSETFROM:-0700
TZOFFSETTO:-0800
TZNAME:PST
DTSTART:20221106T090000
END:STANDARD
BEGIN:DAYLIGHT
TZOFFSETFROM:-0800
TZOFFSETTO:-0700
TZNAME:PDT
DTSTART:20230312T100000
END:DAYLIGHT
BEGIN:STANDARD
TZOFFSETFROM:-0700
TZOFFSETTO:-0800
TZNAME:PST
DTSTART:20231105T090000
END:STANDARD
END:VTIMEZONE
BEGIN:VEVENT
DTSTART;TZID=America/Vancouver:20230227T190000
DTEND;TZID=America/Vancouver:20230227T220000
DTSTAMP:20260419T073117
CREATED:20230225T025736Z
LAST-MODIFIED:20230225T031331Z
UID:10268-1677524400-1677535200@www.deltasd335.upanupstage.com
SUMMARY:Burnsview Secondary Presents Into The Woods
DESCRIPTION:For more information and tickets\, please visit: https://www.eventbrite.ca/o/burnsview-drama-16692882915
URL:https://www.deltasd335.upanupstage.com/event/burnsview-secondary-presents-into-the-woods/
LOCATION:Burnsview Secondary\, 7658 112 St\, Delta\, BC\, V4C4V8\, Canada
END:VEVENT
BEGIN:VEVENT
DTSTART;TZID=America/Vancouver:20230225T130000
DTEND;TZID=America/Vancouver:20230225T153000
DTSTAMP:20260419T073117
CREATED:20230214T230649Z
LAST-MODIFIED:20230214T230649Z
UID:10214-1677330000-1677339000@www.deltasd335.upanupstage.com
SUMMARY:SDSS presents Grease the Musical
DESCRIPTION:Tickets available through Eventbrite \n\n  \n 
URL:https://www.deltasd335.upanupstage.com/event/sdss-presents-grease-the-musical-3/
LOCATION:South Delta Secondary\, 750-53 Street\, Tsawwassen\, BC\, V4M 3B7\, Canada
CATEGORIES:District
END:VEVENT
BEGIN:VEVENT
DTSTART;TZID=America/Vancouver:20230223T183000
DTEND;TZID=America/Vancouver:20230223T193000
DTSTAMP:20260419T073117
CREATED:20230131T221502Z
LAST-MODIFIED:20230131T221551Z
UID:10145-1677177000-1677180600@www.deltasd335.upanupstage.com
SUMMARY:Free Online Information Session: Early Childhood Education (E.C.E.) Basic Certificate
DESCRIPTION:Two-Year Part-Time Evening Program (North Delta)\, FALL 2023 \nThis free session will provide you with information about the Delta E.C.E. Basic Certificate Program and about becoming licensed as an early childhood educator.  The information session will be presented on-line via Zoom video conferencing.  Please pre-register.  All registrants will be e-mailed a Zoom meeting invitation prior to their session. \nECE001-2 Thursday\, February 23 \nhttps://cimsweb.deltasd335.upanupstage.com/publicconnect/DeCourse.aspx?id=ECE001-2&prog=WK
URL:https://www.deltasd335.upanupstage.com/event/free-online-information-session-early-childhood-education-e-c-e-basic-certificate/
LOCATION:BC
CATEGORIES:District
END:VEVENT
BEGIN:VEVENT
DTSTART;VALUE=DATE:20230220
DTEND;VALUE=DATE:20230221
DTSTAMP:20260419T073117
CREATED:20220412T220539Z
LAST-MODIFIED:20220412T220539Z
UID:9064-1676851200-1676937599@www.deltasd335.upanupstage.com
SUMMARY:Family Day
DESCRIPTION:
URL:https://www.deltasd335.upanupstage.com/event/family-day-2/
LOCATION:BC
END:VEVENT
BEGIN:VEVENT
DTSTART;VALUE=DATE:20230217
DTEND;VALUE=DATE:20230218
DTSTAMP:20260419T073117
CREATED:20220412T220050Z
LAST-MODIFIED:20220412T220050Z
UID:9062-1676592000-1676678399@www.deltasd335.upanupstage.com
SUMMARY:Non-Instructional Day
DESCRIPTION:
URL:https://www.deltasd335.upanupstage.com/event/non-instructional-day-11/
LOCATION:BC
END:VEVENT
BEGIN:VEVENT
DTSTART;VALUE=DATE:20230127
DTEND;VALUE=DATE:20230128
DTSTAMP:20260419T073117
CREATED:20220412T220009Z
LAST-MODIFIED:20220412T220009Z
UID:9060-1674777600-1674863999@www.deltasd335.upanupstage.com
SUMMARY:Non-Instructional Day
DESCRIPTION:
URL:https://www.deltasd335.upanupstage.com/event/non-instructional-day-10/
LOCATION:BC
END:VEVENT
BEGIN:VEVENT
DTSTART;TZID=America/Vancouver:20230126T183000
DTEND;TZID=America/Vancouver:20230126T193000
DTSTAMP:20260419T073117
CREATED:20221107T220532Z
LAST-MODIFIED:20221107T220532Z
UID:9888-1674757800-1674761400@www.deltasd335.upanupstage.com
SUMMARY:Online Information Session: Late French Immersion Program
DESCRIPTION:Join us for a free online information session about Delta’s Early French Immersion Program (Kindergarten to Grade 12). \nPlease watch the online presentation before attending: https://vimeo.com/503206055 \nLearn more here: https://www.deltasd335.upanupstage.com/news-events/news/french-immersion-information-nights-3/ \nRegister here
URL:https://www.deltasd335.upanupstage.com/event/online-information-session-late-french-immersion-program-2/
LOCATION:BC
CATEGORIES:District
ATTACH;FMTTYPE=image/jpeg:https://district.public.deltasd335.upanupstage.com/wp-content/uploads/sites/2/2022/11/French-Immersion-SM-image-e1667858173870.jpg
END:VEVENT
BEGIN:VEVENT
DTSTART;TZID=America/Vancouver:20230125T183000
DTEND;TZID=America/Vancouver:20230125T193000
DTSTAMP:20260419T073117
CREATED:20221107T220412Z
LAST-MODIFIED:20221107T220420Z
UID:9886-1674671400-1674675000@www.deltasd335.upanupstage.com
SUMMARY:Online Information Session: Late French Immersion Program
DESCRIPTION:Join us for a free online information session about Delta’s Early French Immersion Program (Kindergarten to Grade 12). \nPlease watch the online presentation before attending: https://vimeo.com/503206055 \nLearn more here: https://www.deltasd335.upanupstage.com/news-events/news/french-immersion-information-nights-3/ \nRegister here
URL:https://www.deltasd335.upanupstage.com/event/online-information-session-late-french-immersion-program/
LOCATION:BC
CATEGORIES:District
ATTACH;FMTTYPE=image/jpeg:https://district.public.deltasd335.upanupstage.com/wp-content/uploads/sites/2/2022/11/French-Immersion-SM-image-e1667858173870.jpg
END:VEVENT
BEGIN:VEVENT
DTSTART;TZID=America/Vancouver:20230110T190000
DTEND;TZID=America/Vancouver:20230110T203000
DTSTAMP:20260419T073117
CREATED:20230103T223914Z
LAST-MODIFIED:20230103T223914Z
UID:10046-1673377200-1673382600@www.deltasd335.upanupstage.com
SUMMARY:Free online webinar: Parents and Guardians as Career Coaches
DESCRIPTION:Please register in advance for this session here.
URL:https://www.deltasd335.upanupstage.com/event/free-online-webinar-parents-and-guardians-as-career-coaches/
LOCATION:BC
CATEGORIES:District
END:VEVENT
BEGIN:VEVENT
DTSTART;VALUE=DATE:20230103
DTEND;VALUE=DATE:20230104
DTSTAMP:20260419T073117
CREATED:20220412T215945Z
LAST-MODIFIED:20220412T215945Z
UID:9058-1672704000-1672790399@www.deltasd335.upanupstage.com
SUMMARY:Schools Reopen after Winter Vacation
DESCRIPTION:
URL:https://www.deltasd335.upanupstage.com/event/schools-reopen-after-winter-vacation-2/
LOCATION:BC
END:VEVENT
BEGIN:VEVENT
DTSTART;VALUE=DATE:20221219
DTEND;VALUE=DATE:20230103
DTSTAMP:20260419T073117
CREATED:20220412T215851Z
LAST-MODIFIED:20220412T215851Z
UID:9056-1671408000-1672703999@www.deltasd335.upanupstage.com
SUMMARY:Winter Vacation Period
DESCRIPTION:
URL:https://www.deltasd335.upanupstage.com/event/winter-vacation-period-3/
LOCATION:BC
END:VEVENT
BEGIN:VEVENT
DTSTART;TZID=America/Vancouver:20221201T183000
DTEND;TZID=America/Vancouver:20221201T193000
DTSTAMP:20260419T073117
CREATED:20221107T215825Z
LAST-MODIFIED:20221107T215825Z
UID:9881-1669919400-1669923000@www.deltasd335.upanupstage.com
SUMMARY:Online Information Session: Early French Immersion Program
DESCRIPTION:Join us for a free online information session about Delta’s Early French Immersion Program (Kindergarten to Grade 12). \nPlease watch the online presentation before attending: https://vimeo.com/649615646 \nLearn more here: https://www.deltasd335.upanupstage.com/news-events/news/french-immersion-information-nights-3/ \nRegister here
URL:https://www.deltasd335.upanupstage.com/event/online-information-session-early-french-immersion-program-2/
LOCATION:BC
ATTACH;FMTTYPE=image/jpeg:https://district.public.deltasd335.upanupstage.com/wp-content/uploads/sites/2/2022/11/French-Immersion-SM-image-e1667858173870.jpg
END:VEVENT
BEGIN:VEVENT
DTSTART;TZID=America/Vancouver:20221130T183000
DTEND;TZID=America/Vancouver:20221130T193000
DTSTAMP:20260419T073117
CREATED:20221107T215411Z
LAST-MODIFIED:20221107T215623Z
UID:9876-1669833000-1669836600@www.deltasd335.upanupstage.com
SUMMARY:Online Information Session: Early French Immersion Program
DESCRIPTION:Join us for a free online information session about Delta’s Early French Immersion Program (Kindergarten to Grade 12). \nPlease watch the online presentation before attending: https://vimeo.com/649615646 \nLearn more here: https://www.deltasd335.upanupstage.com/news-events/news/french-immersion-information-nights-3/ \nRegister here
URL:https://www.deltasd335.upanupstage.com/event/online-information-session-early-french-immersion-program/
LOCATION:BC
ATTACH;FMTTYPE=image/jpeg:https://district.public.deltasd335.upanupstage.com/wp-content/uploads/sites/2/2022/11/French-Immersion-SM-image-e1667858173870.jpg
END:VEVENT
BEGIN:VEVENT
DTSTART;VALUE=DATE:20221128
DTEND;VALUE=DATE:20221129
DTSTAMP:20260419T073117
CREATED:20220412T215806Z
LAST-MODIFIED:20220412T215806Z
UID:9054-1669593600-1669679999@www.deltasd335.upanupstage.com
SUMMARY:Non-Instructional Day
DESCRIPTION:
URL:https://www.deltasd335.upanupstage.com/event/non-instructional-day-9/
LOCATION:BC
END:VEVENT
BEGIN:VEVENT
DTSTART;VALUE=DATE:20221111
DTEND;VALUE=DATE:20221112
DTSTAMP:20260419T073117
CREATED:20220412T215736Z
LAST-MODIFIED:20220412T215736Z
UID:9052-1668124800-1668211199@www.deltasd335.upanupstage.com
SUMMARY:Remembrance Day
DESCRIPTION:
URL:https://www.deltasd335.upanupstage.com/event/remembrance-day-3/
LOCATION:BC
END:VEVENT
BEGIN:VEVENT
DTSTART;TZID=America/Vancouver:20221109T183000
DTEND;TZID=America/Vancouver:20221109T193000
DTSTAMP:20260419T073117
CREATED:20220926T195005Z
LAST-MODIFIED:20220926T195005Z
UID:9678-1668018600-1668022200@www.deltasd335.upanupstage.com
SUMMARY:Free Online Information Session: Early Childhood Education Post-Basic Studies for Special Needs and Infant/Toddler
DESCRIPTION:Event code: ECE002-01 \nThe Post-Basic studies program provides an opportunity for career advancement leading to a Certificate to Practice as a Special Needs Early Childhood Educator and/or a Certificate to Practice as an Infant/ Toddler Early Childhood Educator\, working with children under three years old. \nPlease pre-register for this information session at https://cimsweb.deltasd335.upanupstage.com/publicconnect/DeCourse.aspx?id=ECE002-1&prog=WK
URL:https://www.deltasd335.upanupstage.com/event/free-online-information-session-early-childhood-education-post-basic-studies-for-special-needs-and-infant-toddler/
LOCATION:BC
END:VEVENT
BEGIN:VEVENT
DTSTART;TZID=America/Vancouver:20221103T183000
DTEND;TZID=America/Vancouver:20221103T193000
DTSTAMP:20260419T073117
CREATED:20220926T194416Z
LAST-MODIFIED:20220926T194416Z
UID:9673-1667500200-1667503800@www.deltasd335.upanupstage.com
SUMMARY:Free Online Information Session: Early Childhood Educator Assistant Certificate
DESCRIPTION:Event code: ECE003-1 \nThis program is designed to meet the needs of those wanting to obtain an Early Childhood Educator Assistant Certificate while ensuring that they receive a more thorough grounding than just the required single course of training. \nAll registrants will be e-mailed a Zoom meeting invitation prior to their session.  Please pre-register: https://cimsweb.deltasd335.upanupstage.com/publicconnect/DeCourse.aspx?id=ECE003-1&prog=WK 
URL:https://www.deltasd335.upanupstage.com/event/free-online-information-session-early-childhood-educator-assistant-certificate/
LOCATION:BC
END:VEVENT
BEGIN:VEVENT
DTSTART;TZID=America/Vancouver:20221022T193000
DTEND;TZID=America/Vancouver:20221022T213000
DTSTAMP:20260419T073117
CREATED:20220926T203132Z
LAST-MODIFIED:20220926T205208Z
UID:9683-1666467000-1666474200@www.deltasd335.upanupstage.com
SUMMARY:Doug & The Slugs: “Semi-Unplugged Slugs” Live at Genesis Theatre
DESCRIPTION:Join us at the Genesis Theatre for an intimate evening with Doug and the Slugs\, featuring Slug tales and twisted trails – stories\, hidden gems\, and all your favourite songs!  Their upbeat musical style\, musicianship\, and offbeat stage antics have made them a staple of Canada’s radio and music scene for decades. \nReserved tickets are $55 and may be purchased on-line at:  https://genesis-theatre.tickit.ca/ \nGenesis Theatre is operated by Delta School District.
URL:https://www.deltasd335.upanupstage.com/event/doug-the-slugs-semi-unplugged-slugs-live-at-genesis-theatre/
LOCATION:Genesis Theatre\, 5005 45 Ave\, Delta\, BC\, V4K 1K4\, Canada
END:VEVENT
BEGIN:VEVENT
DTSTART;VALUE=DATE:20221021
DTEND;VALUE=DATE:20221022
DTSTAMP:20260419T073117
CREATED:20220412T215709Z
LAST-MODIFIED:20220412T215709Z
UID:9050-1666310400-1666396799@www.deltasd335.upanupstage.com
SUMMARY:Non-Instructional Day
DESCRIPTION:
URL:https://www.deltasd335.upanupstage.com/event/non-instructional-day-8/
LOCATION:BC
END:VEVENT
BEGIN:VEVENT
DTSTART;TZID=America/Vancouver:20221013T183000
DTEND;TZID=America/Vancouver:20221013T200000
DTSTAMP:20260419T073117
CREATED:20220926T181044Z
LAST-MODIFIED:20220926T181044Z
UID:9668-1665685800-1665691200@www.deltasd335.upanupstage.com
SUMMARY:Free Seminar: Connect Before Correct: Understanding Your Teen
DESCRIPTION:Please register in advance for this event at: https://www.eventbrite.ca/e/connecting-with-your-teen-tickets-425858693817
URL:https://www.deltasd335.upanupstage.com/event/free-seminar-connect-before-correct-understanding-your-teen/
LOCATION:Sands Secondary School\, 10840 82 Ave\, Delta\, BC\, V4C2B3\, Canada
CATEGORIES:District
END:VEVENT
BEGIN:VEVENT
DTSTART;VALUE=DATE:20221010
DTEND;VALUE=DATE:20221011
DTSTAMP:20260419T073117
CREATED:20220412T215639Z
LAST-MODIFIED:20220412T215639Z
UID:9048-1665360000-1665446399@www.deltasd335.upanupstage.com
SUMMARY:Thanksgiving Day
DESCRIPTION:
URL:https://www.deltasd335.upanupstage.com/event/thanksgiving-day-2/
LOCATION:BC
END:VEVENT
BEGIN:VEVENT
DTSTART;TZID=America/Vancouver:20221004T190000
DTEND;TZID=America/Vancouver:20221004T194500
DTSTAMP:20260419T073117
CREATED:20220926T202706Z
LAST-MODIFIED:20220926T205135Z
UID:9680-1664910000-1664912700@www.deltasd335.upanupstage.com
SUMMARY:The Improv Centre Comes To Delta: Live at Genesis Theatre
DESCRIPTION:Join us at Genesis Theatre in Ladner for a hilarious 45-minute performance by a team of 3 highly skilled improvisors.  The Vancouver Improv Centre Society is one of Vancouver’s leading and best-known improv theatre companies. The Improv Centre was originally established as The Vancouver TheatreSports League in 1981.  It was founded to promote\, develop\, maintain\, and present improvisational theatre productions and presentations to local and visiting audiences in Vancouver. \nTICKETS:  $12  General Admission \nPurchase ON-LINE:  https://genesis-theatre.tickit.ca/  or by PHONE – 604-940-5550. \nGenesis Theatre is operated by Delta School District.
URL:https://www.deltasd335.upanupstage.com/event/the-improv-centre-comes-to-delta-live-at-genesis-theatre/
LOCATION:Genesis Theatre\, 5005 45 Ave\, Delta\, BC\, V4K 1K4\, Canada
ATTACH;FMTTYPE=image/jpeg:https://district.public.deltasd335.upanupstage.com/wp-content/uploads/sites/2/2022/09/Improv.jpeg
END:VEVENT
BEGIN:VEVENT
DTSTART;VALUE=DATE:20220930
DTEND;VALUE=DATE:20221001
DTSTAMP:20260419T073117
CREATED:20220412T215615Z
LAST-MODIFIED:20220412T215615Z
UID:9046-1664496000-1664582399@www.deltasd335.upanupstage.com
SUMMARY:Truth and Reconciliation Day
DESCRIPTION:
URL:https://www.deltasd335.upanupstage.com/event/truth-and-reconciliation-day-2/
LOCATION:BC
END:VEVENT
BEGIN:VEVENT
DTSTART;VALUE=DATE:20220923
DTEND;VALUE=DATE:20220924
DTSTAMP:20260419T073117
CREATED:20220412T215455Z
LAST-MODIFIED:20220412T215455Z
UID:9044-1663891200-1663977599@www.deltasd335.upanupstage.com
SUMMARY:Non-Instructional Day
DESCRIPTION:
URL:https://www.deltasd335.upanupstage.com/event/non-instructional-day-7/
LOCATION:BC
END:VEVENT
BEGIN:VEVENT
DTSTART;VALUE=DATE:20220906
DTEND;VALUE=DATE:20220907
DTSTAMP:20260419T073117
CREATED:20220412T215356Z
LAST-MODIFIED:20220412T215356Z
UID:9041-1662422400-1662508799@www.deltasd335.upanupstage.com
SUMMARY:Schools Open
DESCRIPTION:
URL:https://www.deltasd335.upanupstage.com/event/schools-open-2/
LOCATION:BC
END:VEVENT
BEGIN:VEVENT
DTSTART;VALUE=DATE:20220905
DTEND;VALUE=DATE:20220906
DTSTAMP:20260419T073117
CREATED:20220412T221238Z
LAST-MODIFIED:20220412T221238Z
UID:9086-1662336000-1662422399@www.deltasd335.upanupstage.com
SUMMARY:Labour Day
DESCRIPTION:
URL:https://www.deltasd335.upanupstage.com/event/labour-day/
LOCATION:BC
END:VEVENT
BEGIN:VEVENT
DTSTART;VALUE=DATE:20220801
DTEND;VALUE=DATE:20220802
DTSTAMP:20260419T073117
CREATED:20220412T221211Z
LAST-MODIFIED:20220412T221211Z
UID:9084-1659312000-1659398399@www.deltasd335.upanupstage.com
SUMMARY:BC Day
DESCRIPTION:
URL:https://www.deltasd335.upanupstage.com/event/bc-day/
LOCATION:BC
END:VEVENT
BEGIN:VEVENT
DTSTART;VALUE=DATE:20220701
DTEND;VALUE=DATE:20220702
DTSTAMP:20260419T073117
CREATED:20220412T221143Z
LAST-MODIFIED:20220412T221143Z
UID:9082-1656633600-1656719999@www.deltasd335.upanupstage.com
SUMMARY:Canada Day
DESCRIPTION:
URL:https://www.deltasd335.upanupstage.com/event/canada-day/
LOCATION:BC
END:VEVENT
BEGIN:VEVENT
DTSTART;VALUE=DATE:20220630
DTEND;VALUE=DATE:20220701
DTSTAMP:20260419T073117
CREATED:20220412T214701Z
LAST-MODIFIED:20220412T214701Z
UID:9015-1656547200-1656633599@www.deltasd335.upanupstage.com
SUMMARY:Schools Close and Administration Day
DESCRIPTION:
URL:https://www.deltasd335.upanupstage.com/event/schools-close-and-administration-day-2/
LOCATION:BC
END:VEVENT
BEGIN:VEVENT
DTSTART;VALUE=DATE:20220629
DTEND;VALUE=DATE:20220630
DTSTAMP:20260419T073117
CREATED:20210908T180824Z
LAST-MODIFIED:20210908T180824Z
UID:7957-1656460800-1656547199@www.deltasd335.upanupstage.com
SUMMARY:Last Day of School for Students
DESCRIPTION:
URL:https://www.deltasd335.upanupstage.com/event/last-day-of-school-for-students/
LOCATION:BC
END:VEVENT
END:VCALENDAR