BEGIN:VCALENDAR
VERSION:2.0
PRODID:-//Delta School District - ECPv6.6.0.2//NONSGML v1.0//EN
CALSCALE:GREGORIAN
METHOD:PUBLISH
X-ORIGINAL-URL:https://www.deltasd335.upanupstage.com
X-WR-CALDESC:Events for Delta School District
REFRESH-INTERVAL;VALUE=DURATION:PT1H
X-Robots-Tag:noindex
X-PUBLISHED-TTL:PT1H
BEGIN:VTIMEZONE
TZID:America/Vancouver
BEGIN:DAYLIGHT
TZOFFSETFROM:-0800
TZOFFSETTO:-0700
TZNAME:PDT
DTSTART:20240310T100000
END:DAYLIGHT
BEGIN:STANDARD
TZOFFSETFROM:-0700
TZOFFSETTO:-0800
TZNAME:PST
DTSTART:20241103T090000
END:STANDARD
END:VTIMEZONE
BEGIN:VEVENT
DTSTART;TZID=America/Vancouver:20240129T183000
DTEND;TZID=America/Vancouver:20240129T193000
DTSTAMP:20260421T082456
CREATED:20231101T171602Z
LAST-MODIFIED:20231101T171957Z
UID:11133-1706553000-1706556600@www.deltasd335.upanupstage.com
SUMMARY:Late French Immersion - Free Online Information Session
DESCRIPTION:We encourage you to watch this video in advance of the information night: https://vimeo.com/503206055 \nPlease sign up to receive the Zoom link: https://docs.google.com/forms/d/e/1FAIpQLSeNnaxw0pvuLH21Juh-REvUaDfFl5uuKopBvjRgroD8f6n2iQ/viewform
URL:https://www.deltasd335.upanupstage.com/event/late-french-immersion-free-online-information-session/
LOCATION:BC
CATEGORIES:District
END:VEVENT
BEGIN:VEVENT
DTSTART;TZID=America/Vancouver:20240309T193000
DTEND;TZID=America/Vancouver:20240309T210000
DTSTAMP:20260421T082456
CREATED:20230929T183252Z
LAST-MODIFIED:20230929T183252Z
UID:11026-1710012600-1710018000@www.deltasd335.upanupstage.com
SUMMARY:Blue Moon Marquee in Concert
DESCRIPTION:Blue Moon Marquee is a swing blues\, stomp jazz band who perform original compositions influenced by anything that swings\, jumps\, or grooves. Genesis Theatre is operated by Delta School District. \nTickets\, $40 reserved seating: https://genesis-theatre.tickit.ca/
URL:https://www.deltasd335.upanupstage.com/event/blue-moon-marquee-in-concert/
LOCATION:Genesis Theatre\, 5005 45 Ave\, Delta\, BC\, V4K 1K4\, Canada
CATEGORIES:District
END:VEVENT
END:VCALENDAR