BEGIN:VCALENDAR
VERSION:2.0
PRODID:-//Delta School District - ECPv6.6.0.2//NONSGML v1.0//EN
CALSCALE:GREGORIAN
METHOD:PUBLISH
X-WR-CALNAME:Delta School District
X-ORIGINAL-URL:https://www.deltasd335.upanupstage.com
X-WR-CALDESC:Events for Delta School District
REFRESH-INTERVAL;VALUE=DURATION:PT1H
X-Robots-Tag:noindex
X-PUBLISHED-TTL:PT1H
BEGIN:VTIMEZONE
TZID:America/Vancouver
BEGIN:DAYLIGHT
TZOFFSETFROM:-0800
TZOFFSETTO:-0700
TZNAME:PDT
DTSTART:20200308T100000
END:DAYLIGHT
BEGIN:STANDARD
TZOFFSETFROM:-0700
TZOFFSETTO:-0800
TZNAME:PST
DTSTART:20201101T090000
END:STANDARD
END:VTIMEZONE
BEGIN:VEVENT
DTSTART;TZID=America/Vancouver:20201008T183000
DTEND;TZID=America/Vancouver:20201008T200000
DTSTAMP:20260420T014140
CREATED:20200930T202404Z
LAST-MODIFIED:20200930T211319Z
UID:6455-1602181800-1602187200@www.deltasd335.upanupstage.com
SUMMARY:Substance Use Prevention\, Addiction and Recovery Presentation with Guy Felicella
DESCRIPTION:The Delta School District invites parents to a presentation by addiction specialist Guy Felicella on October 8.
URL:https://www.deltasd335.upanupstage.com/event/substance-use-prevention-addiction-and-recovery-presentation-with-guy-felicella/
CATEGORIES:District
END:VEVENT
BEGIN:VEVENT
DTSTART;TZID=America/Vancouver:20201005T190000
DTEND;TZID=America/Vancouver:20201005T200000
DTSTAMP:20260420T014140
CREATED:20201001T213813Z
LAST-MODIFIED:20201001T213813Z
UID:6469-1601924400-1601928000@www.deltasd335.upanupstage.com
SUMMARY:Delta District Parent Advisory Council Event with Superintendent Sheppard
DESCRIPTION:Delta District Parent Advisory Council (DPAC) would like to invite all parents and guardians in the SD37 school community to two upcoming events with Superintendent Doug Sheppard. These events will be an opportunity to learn more about this year’s back to school plan\, ask questions\, and share your feedback and concerns. \n\nMonday\, October 5 at 7pm – 8pm (*Delta DPAC General Meeting to follow immediately after the Q&A session)\nWednesday\, October 14 at 7pm\n\nDue to COVID-19 restrictions\, both events will be held online with a moderated Q&A session. Pre-registration is required. To register and submit questions in advance\, please visit: https://forms.gle/tUWRU8G3P3TguRAs9 \nFor more information about DPAC\, please visit the DPAC page on the district’s website.
URL:https://www.deltasd335.upanupstage.com/event/delta-district-parent-advisory-council-event-with-superintendent-sheppard/
CATEGORIES:District
END:VEVENT
BEGIN:VEVENT
DTSTART;TZID=America/Vancouver:20200930T190000
DTEND;TZID=America/Vancouver:20200930T203000
DTSTAMP:20260420T014140
CREATED:20200923T172956Z
LAST-MODIFIED:20200929T205925Z
UID:6403-1601492400-1601497800@www.deltasd335.upanupstage.com
SUMMARY:Learn how to be safe online
DESCRIPTION:The Delta School District invites families and staff to attend a livestream presentation on internet safety by social media educator Jesse Miller on Wednesday\, September 30 from 7 – 8:30 p.m. \nAs school systems around the world scrambled in the spring of 2020\, screen time proved it can be a useful tool for teaching and learning. With a new school year beginning\, we want to pause and consider the role that technology plays in our lives as parents\, children\, teachers and learners. \nThis presentation will engage in current thinking about youth\, technology and social media\, while sharing ideas and supports to help your family consider balanced technology use in the home. \nYou can watch the online presentation here: www.deltalearns.ca/internetsafety \nNo registration or login is required. Attendees have the opportunity to send in questions and topics for discussion ahead of time. \nIf you are not available to watch the livestream\, the presentation will be recorded and made available online afterwards. \nAbout the presenter: \nFor the better part of a decade\, Jesse Miller has been a preferred choice of social media education in Western Canada. Featured in hundreds of schools across the country\, in partnership with school districts and independent schools\, Jesse’s speaking engagements focus on presenting an exciting and educationally sound social media conversation that promotes an active and relevant social media education dialogue with parents and students.
URL:https://www.deltasd335.upanupstage.com/event/learn-how-to-be-safe-online/
CATEGORIES:District
ATTACH;FMTTYPE=image/jpeg:https://district.public.deltasd335.upanupstage.com/wp-content/uploads/sites/2/2020/09/Internet-Safety-Flyer-Sept-30-scaled.jpg
END:VEVENT
BEGIN:VEVENT
DTSTART;VALUE=DATE:20200925
DTEND;VALUE=DATE:20200926
DTSTAMP:20260420T014140
CREATED:20200707T212324Z
LAST-MODIFIED:20200707T214153Z
UID:6152-1600992000-1601078399@www.deltasd335.upanupstage.com
SUMMARY:Non-Instructional Day (District Wide)
DESCRIPTION:
URL:https://www.deltasd335.upanupstage.com/event/non-instructional-day-district-wide-15/
CATEGORIES:District
END:VEVENT
BEGIN:VEVENT
DTSTART;VALUE=DATE:20200908
DTEND;VALUE=DATE:20200909
DTSTAMP:20260420T014140
CREATED:20200707T212303Z
LAST-MODIFIED:20200707T214203Z
UID:6150-1599523200-1599609599@www.deltasd335.upanupstage.com
SUMMARY:Schools Open
DESCRIPTION:
URL:https://www.deltasd335.upanupstage.com/event/schools-open-4/
CATEGORIES:District
END:VEVENT
BEGIN:VEVENT
DTSTART;VALUE=DATE:20200907
DTEND;VALUE=DATE:20200908
DTSTAMP:20260420T014140
CREATED:20200707T212355Z
LAST-MODIFIED:20200707T214214Z
UID:6154-1599436800-1599523199@www.deltasd335.upanupstage.com
SUMMARY:Labour Day
DESCRIPTION:
URL:https://www.deltasd335.upanupstage.com/event/labour-day-3/
CATEGORIES:District
END:VEVENT
END:VCALENDAR