BEGIN:VCALENDAR
VERSION:2.0
PRODID:-//Delta School District - ECPv6.6.0.2//NONSGML v1.0//EN
CALSCALE:GREGORIAN
METHOD:PUBLISH
X-WR-CALNAME:Delta School District
X-ORIGINAL-URL:https://www.deltasd335.upanupstage.com
X-WR-CALDESC:Events for Delta School District
REFRESH-INTERVAL;VALUE=DURATION:PT1H
X-Robots-Tag:noindex
X-PUBLISHED-TTL:PT1H
BEGIN:VTIMEZONE
TZID:America/Vancouver
BEGIN:DAYLIGHT
TZOFFSETFROM:-0800
TZOFFSETTO:-0700
TZNAME:PDT
DTSTART:20230312T100000
END:DAYLIGHT
BEGIN:STANDARD
TZOFFSETFROM:-0700
TZOFFSETTO:-0800
TZNAME:PST
DTSTART:20231105T090000
END:STANDARD
END:VTIMEZONE
BEGIN:VEVENT
DTSTART;TZID=America/Vancouver:20231103T170000
DTEND;TZID=America/Vancouver:20231103T170000
DTSTAMP:20260420T212812
CREATED:20230929T000400Z
LAST-MODIFIED:20230929T000400Z
UID:11015-1699030800-1699030800@www.deltasd335.upanupstage.com
SUMMARY:Language Challenge Exams application deadline
DESCRIPTION:The purpose of Challenge Exams is to permit students who have already acquired the appropriate learning elsewhere to obtain credit for a Grade 11 or 12 course. \nThe deadline for applications to the 2023/2024 Language Challenge Exams is November 3\, 2023. \nExams will take place on Saturday\, January 27th and Sunday\, January 28th\, 2024.
URL:https://www.deltasd335.upanupstage.com/event/language-challenge-exams-application-deadline/
CATEGORIES:District
END:VEVENT
END:VCALENDAR