BEGIN:VCALENDAR
VERSION:2.0
PRODID:-//Delta School District - ECPv6.6.0.2//NONSGML v1.0//EN
CALSCALE:GREGORIAN
METHOD:PUBLISH
X-WR-CALNAME:Delta School District
X-ORIGINAL-URL:https://www.deltasd335.upanupstage.com
X-WR-CALDESC:Events for Delta School District
REFRESH-INTERVAL;VALUE=DURATION:PT1H
X-Robots-Tag:noindex
X-PUBLISHED-TTL:PT1H
BEGIN:VTIMEZONE
TZID:America/Vancouver
BEGIN:DAYLIGHT
TZOFFSETFROM:-0800
TZOFFSETTO:-0700
TZNAME:PDT
DTSTART:20230312T100000
END:DAYLIGHT
BEGIN:STANDARD
TZOFFSETFROM:-0700
TZOFFSETTO:-0800
TZNAME:PST
DTSTART:20231105T090000
END:STANDARD
END:VTIMEZONE
BEGIN:VEVENT
DTSTART;TZID=America/Vancouver:20230608T090000
DTEND;TZID=America/Vancouver:20230608T143000
DTSTAMP:20260421T045927
CREATED:20230421T231124Z
LAST-MODIFIED:20230421T231124Z
UID:10542-1686214800-1686234600@www.deltasd335.upanupstage.com
SUMMARY:Career & Hiring Fair
DESCRIPTION:Register here
URL:https://www.deltasd335.upanupstage.com/event/career-hiring-fair/
LOCATION:Sungod Recreation centre\, 7815 112 St\, Delta\, BC\, V4C 4V9\, Canada
CATEGORIES:Community,District
END:VEVENT
END:VCALENDAR