BEGIN:VCALENDAR
VERSION:2.0
PRODID:-//Delta School District - ECPv6.6.0.2//NONSGML v1.0//EN
CALSCALE:GREGORIAN
METHOD:PUBLISH
X-WR-CALNAME:Delta School District
X-ORIGINAL-URL:https://www.deltasd335.upanupstage.com
X-WR-CALDESC:Events for Delta School District
REFRESH-INTERVAL;VALUE=DURATION:PT1H
X-Robots-Tag:noindex
X-PUBLISHED-TTL:PT1H
BEGIN:VTIMEZONE
TZID:America/Vancouver
BEGIN:DAYLIGHT
TZOFFSETFROM:-0800
TZOFFSETTO:-0700
TZNAME:PDT
DTSTART:20230312T100000
END:DAYLIGHT
BEGIN:STANDARD
TZOFFSETFROM:-0700
TZOFFSETTO:-0800
TZNAME:PST
DTSTART:20231105T090000
END:STANDARD
END:VTIMEZONE
BEGIN:VEVENT
DTSTART;TZID=America/Vancouver:20230606T190000
DTEND;TZID=America/Vancouver:20230606T210000
DTSTAMP:20260421T045934
CREATED:20230425T213315Z
LAST-MODIFIED:20230425T213315Z
UID:10558-1686078000-1686085200@www.deltasd335.upanupstage.com
SUMMARY:Genesis Theatre Community Appreciation Event\, featuring TOP LINE VOCAL COLLECTIVE
DESCRIPTION:Genesis Theatre presents this special musical event to thank our valued volunteers\, as well as clients\, school district colleagues\, and\, of course\, our community for their support over the past year. \nThe program opens with short musical performances by Delta Secondary students and alumni followed by the featured performance by Vancouver’s premier pop choir\, TOP LINE VOCAL COLLECTIVE.  The presentation is free and all-ages\, but seating is limited so reserved tickets are required. \nPlease select your seats at:  https://genesis-theatre.tickit.ca/ 
URL:https://www.deltasd335.upanupstage.com/event/genesis-theatre-community-appreciation-event-featuring-top-line-vocal-collective/
LOCATION:Genesis Theatre\, 5005 45 Ave\, Delta\, BC\, V4K 1K4\, Canada
CATEGORIES:Community,District
ATTACH;FMTTYPE=image/jpeg:https://district.public.deltasd335.upanupstage.com/wp-content/uploads/sites/2/2023/04/5B4D7617-701C-4DDC-9E7B-F9B342A98641.jpeg
END:VEVENT
END:VCALENDAR