BEGIN:VCALENDAR
VERSION:2.0
PRODID:-//Delta School District - ECPv6.6.0.2//NONSGML v1.0//EN
CALSCALE:GREGORIAN
METHOD:PUBLISH
X-ORIGINAL-URL:https://www.deltasd335.upanupstage.com
X-WR-CALDESC:Events for Delta School District
REFRESH-INTERVAL;VALUE=DURATION:PT1H
X-Robots-Tag:noindex
X-PUBLISHED-TTL:PT1H
BEGIN:VTIMEZONE
TZID:America/Vancouver
BEGIN:DAYLIGHT
TZOFFSETFROM:-0800
TZOFFSETTO:-0700
TZNAME:PDT
DTSTART:20230312T100000
END:DAYLIGHT
BEGIN:STANDARD
TZOFFSETFROM:-0700
TZOFFSETTO:-0800
TZNAME:PST
DTSTART:20231105T090000
END:STANDARD
END:VTIMEZONE
BEGIN:VEVENT
DTSTART;TZID=America/Vancouver:20230510T183000
DTEND;TZID=America/Vancouver:20230510T213000
DTSTAMP:20260421T063513
CREATED:20230420T163142Z
LAST-MODIFIED:20230420T163142Z
UID:10529-1683743400-1683754200@www.deltasd335.upanupstage.com
SUMMARY:Seaquam Secondary presents Newsies the Musical
DESCRIPTION:To purchase tickets\, click here. \n\n\n  \n 
URL:https://www.deltasd335.upanupstage.com/event/seaquam-secondary-presents-newsies-the-musical/
LOCATION:Seaquam Secondary School\, 11584 Lyon Rd\, Delta\, BC\, V4E 2K4\, Canada
CATEGORIES:Community,District
END:VEVENT
END:VCALENDAR