BEGIN:VCALENDAR
VERSION:2.0
PRODID:-//Delta School District - ECPv6.6.0.2//NONSGML v1.0//EN
CALSCALE:GREGORIAN
METHOD:PUBLISH
X-WR-CALNAME:Delta School District
X-ORIGINAL-URL:https://www.deltasd335.upanupstage.com
X-WR-CALDESC:Events for Delta School District
REFRESH-INTERVAL;VALUE=DURATION:PT1H
X-Robots-Tag:noindex
X-PUBLISHED-TTL:PT1H
BEGIN:VTIMEZONE
TZID:America/Vancouver
BEGIN:DAYLIGHT
TZOFFSETFROM:-0800
TZOFFSETTO:-0700
TZNAME:PDT
DTSTART:20230312T100000
END:DAYLIGHT
BEGIN:STANDARD
TZOFFSETFROM:-0700
TZOFFSETTO:-0800
TZNAME:PST
DTSTART:20231105T090000
END:STANDARD
END:VTIMEZONE
BEGIN:VEVENT
DTSTART;TZID=America/Vancouver:20230503T183000
DTEND;TZID=America/Vancouver:20230503T193000
DTSTAMP:20260421T063455
CREATED:20230131T223950Z
LAST-MODIFIED:20230131T223950Z
UID:10149-1683138600-1683142200@www.deltasd335.upanupstage.com
SUMMARY:Free Online Information Session: Early Childhood Education Post-Basic Studies for Special Needs and Infant/Toddler
DESCRIPTION:This free session will provide you with information about Delta post-basic E.C.E. courses leading to the Delta ECE Diploma\, the two specializations\, and practicum opportunities. Please pre-register.  Please pre-register.  All registrants will be e-mailed a Zoom meeting invitation prior to their session. \n ECE002-3        Wednesday\, May 3 \nhttps://cimsweb.deltasd335.upanupstage.com/publicconnect/DeCourse.aspx?id=ECE002-3&prog=WK \n 
URL:https://www.deltasd335.upanupstage.com/event/free-online-information-session-early-childhood-education-post-basic-studies-for-special-needs-and-infant-toddler-2/
CATEGORIES:District
END:VEVENT
END:VCALENDAR