BEGIN:VCALENDAR
VERSION:2.0
PRODID:-//Delta School District - ECPv6.6.0.2//NONSGML v1.0//EN
CALSCALE:GREGORIAN
METHOD:PUBLISH
X-WR-CALNAME:Delta School District
X-ORIGINAL-URL:https://www.deltasd335.upanupstage.com
X-WR-CALDESC:Events for Delta School District
REFRESH-INTERVAL;VALUE=DURATION:PT1H
X-Robots-Tag:noindex
X-PUBLISHED-TTL:PT1H
BEGIN:VTIMEZONE
TZID:America/Vancouver
BEGIN:DAYLIGHT
TZOFFSETFROM:-0800
TZOFFSETTO:-0700
TZNAME:PDT
DTSTART:20230312T100000
END:DAYLIGHT
BEGIN:STANDARD
TZOFFSETFROM:-0700
TZOFFSETTO:-0800
TZNAME:PST
DTSTART:20231105T090000
END:STANDARD
END:VTIMEZONE
BEGIN:VEVENT
DTSTART;TZID=America/Vancouver:20231103T170000
DTEND;TZID=America/Vancouver:20231103T170000
DTSTAMP:20260420T193401
CREATED:20230929T000400Z
LAST-MODIFIED:20230929T000400Z
UID:11015-1699030800-1699030800@www.deltasd335.upanupstage.com
SUMMARY:Language Challenge Exams application deadline
DESCRIPTION:The purpose of Challenge Exams is to permit students who have already acquired the appropriate learning elsewhere to obtain credit for a Grade 11 or 12 course. \nThe deadline for applications to the 2023/2024 Language Challenge Exams is November 3\, 2023. \nExams will take place on Saturday\, January 27th and Sunday\, January 28th\, 2024.
URL:https://www.deltasd335.upanupstage.com/event/language-challenge-exams-application-deadline/
CATEGORIES:District
END:VEVENT
BEGIN:VEVENT
DTSTART;TZID=America/Vancouver:20231126T190000
DTEND;TZID=America/Vancouver:20231126T203000
DTSTAMP:20260420T193401
CREATED:20230929T182751Z
LAST-MODIFIED:20230929T182751Z
UID:11020-1701025200-1701030600@www.deltasd335.upanupstage.com
SUMMARY:Barney Bentall and the Cariboo Express
DESCRIPTION:The Cariboo Express features some of Canada’s finest roots and country musicians\, each taking turns in the spotlight\, collaborating and warming the hearts of audiences. Genesis Theatre is operated by Delta School District. \nTickets\, $65 reserved seating: https://genesis-theatre.tickit.ca/
URL:https://www.deltasd335.upanupstage.com/event/barney-bentall-and-the-cariboo-express/
LOCATION:Genesis Theatre\, 5005 45 Ave\, Delta\, BC\, V4K 1K4\, Canada
CATEGORIES:District
END:VEVENT
BEGIN:VEVENT
DTSTART;TZID=America/Vancouver:20231128T183000
DTEND;TZID=America/Vancouver:20231128T193000
DTSTAMP:20260420T193401
CREATED:20230929T182940Z
LAST-MODIFIED:20230929T182940Z
UID:11022-1701196200-1701199800@www.deltasd335.upanupstage.com
SUMMARY:Free Online Information Session: Early Childhood Education Post-Basic Studies For Special Needs And Infant/ Toddler
DESCRIPTION:Please pre-register for this free online Zoom information session. Registrants will be e-mailed a meeting invitation prior to their session. \nTuesday\, November 28\, 6:30 pm \nRegister on-line:  https://cimsweb.deltasd335.upanupstage.com/publicconnect/DeCourse.aspx?id=ECE002-2&prog=WK \n 
URL:https://www.deltasd335.upanupstage.com/event/free-online-information-session-early-childhood-education-post-basic-studies-for-special-needs-and-infant-toddler-4/
CATEGORIES:District
END:VEVENT
BEGIN:VEVENT
DTSTART;TZID=America/Vancouver:20231129T183000
DTEND;TZID=America/Vancouver:20231129T193000
DTSTAMP:20260420T193401
CREATED:20231101T171103Z
LAST-MODIFIED:20231101T171125Z
UID:11129-1701282600-1701286200@www.deltasd335.upanupstage.com
SUMMARY:Early French Immersion: Free Online Information Night
DESCRIPTION:We encourage you to watch this video in advance of the information night: https://vimeo.com/649615646 \nPlease sign up to receive the Zoom link: https://docs.google.com/forms/d/e/1FAIpQLSfDOuqpCxJorCxsgCSJ3dUbTT_Q1kJgTa8FNb6NFsRLHTlHlw/viewform
URL:https://www.deltasd335.upanupstage.com/event/early-french-immersion-free-online-information-night/
CATEGORIES:District
END:VEVENT
END:VCALENDAR