BEGIN:VCALENDAR
VERSION:2.0
PRODID:-//Delta School District - ECPv6.6.0.2//NONSGML v1.0//EN
CALSCALE:GREGORIAN
METHOD:PUBLISH
X-ORIGINAL-URL:https://www.deltasd335.upanupstage.com
X-WR-CALDESC:Events for Delta School District
REFRESH-INTERVAL;VALUE=DURATION:PT1H
X-Robots-Tag:noindex
X-PUBLISHED-TTL:PT1H
BEGIN:VTIMEZONE
TZID:America/Vancouver
BEGIN:DAYLIGHT
TZOFFSETFROM:-0800
TZOFFSETTO:-0700
TZNAME:PDT
DTSTART:20230312T100000
END:DAYLIGHT
BEGIN:STANDARD
TZOFFSETFROM:-0700
TZOFFSETTO:-0800
TZNAME:PST
DTSTART:20231105T090000
END:STANDARD
END:VTIMEZONE
BEGIN:VEVENT
DTSTART;TZID=America/Vancouver:20231024T183000
DTEND;TZID=America/Vancouver:20231024T193000
DTSTAMP:20260420T212608
CREATED:20230928T220420Z
LAST-MODIFIED:20230928T220420Z
UID:11006-1698172200-1698175800@www.deltasd335.upanupstage.com
SUMMARY:Free Online Information Session: Early Childhood Education Post-Basic Studies For Special Needs And Infant/ Toddler
DESCRIPTION:Please pre-register for this Online Information Session via Zoom.  Registrants will be e-mailed a meeting invitation prior to their session. \nTuesday\, October 24\, 6:30 pm \nRegister on-line:  https://cimsweb.deltasd335.upanupstage.com/publicconnect/DeCourse.aspx?id=ECE002-1&prog=WK \n 
URL:https://www.deltasd335.upanupstage.com/event/free-online-information-session-early-childhood-education-post-basic-studies-for-special-needs-and-infant-toddler-3/
CATEGORIES:District
END:VEVENT
BEGIN:VEVENT
DTSTART;TZID=America/Vancouver:20231029T140000
DTEND;TZID=America/Vancouver:20231029T160000
DTSTAMP:20260420T212608
CREATED:20230928T235459Z
LAST-MODIFIED:20230928T235505Z
UID:11012-1698588000-1698595200@www.deltasd335.upanupstage.com
SUMMARY:Delta Music Makers 40th Anniversary Concert
DESCRIPTION:Established in 1982 as a course with Delta School District’s Continuing Education program\, the Delta Music Makers have continued to learn and rehearse at Delta Secondary School with a dedicated group of musicians for 40 years.  Join us for a celebration of this achievement. \nAdmission by donation at the door. \nSunday\, OCTOBER 29\, 2:00 PM \nGenesis Theatre\, 5005 45th Avenue\, Ladner
URL:https://www.deltasd335.upanupstage.com/event/delta-music-makers-40th-anniversary-concert/
LOCATION:Genesis Theatre\, 5005 45 Ave\, Delta\, BC\, V4K 1K4\, Canada
CATEGORIES:District
ATTACH;FMTTYPE=image/jpeg:https://district.public.deltasd335.upanupstage.com/wp-content/uploads/sites/2/2023/09/DMM-Groupshot-Final-scaled.jpg
END:VEVENT
END:VCALENDAR