BEGIN:VCALENDAR
VERSION:2.0
PRODID:-//Delta School District - ECPv6.6.0.2//NONSGML v1.0//EN
CALSCALE:GREGORIAN
METHOD:PUBLISH
X-WR-CALNAME:Delta School District
X-ORIGINAL-URL:https://www.deltasd335.upanupstage.com
X-WR-CALDESC:Events for Delta School District
REFRESH-INTERVAL;VALUE=DURATION:PT1H
X-Robots-Tag:noindex
X-PUBLISHED-TTL:PT1H
BEGIN:VTIMEZONE
TZID:America/Vancouver
BEGIN:DAYLIGHT
TZOFFSETFROM:-0800
TZOFFSETTO:-0700
TZNAME:PDT
DTSTART:20200308T100000
END:DAYLIGHT
BEGIN:STANDARD
TZOFFSETFROM:-0700
TZOFFSETTO:-0800
TZNAME:PST
DTSTART:20201101T090000
END:STANDARD
BEGIN:DAYLIGHT
TZOFFSETFROM:-0800
TZOFFSETTO:-0700
TZNAME:PDT
DTSTART:20210314T100000
END:DAYLIGHT
BEGIN:STANDARD
TZOFFSETFROM:-0700
TZOFFSETTO:-0800
TZNAME:PST
DTSTART:20211107T090000
END:STANDARD
END:VTIMEZONE
BEGIN:VEVENT
DTSTART;TZID=America/Vancouver:20210224T183000
DTEND;TZID=America/Vancouver:20210224T200000
DTSTAMP:20260419T112104
CREATED:20210218T173305Z
LAST-MODIFIED:20210218T173357Z
UID:7227-1614191400-1614196800@www.deltasd335.upanupstage.com
SUMMARY:A Parent's Role in IEP Development: Online session with Suzanne Perreault
DESCRIPTION:To learn more\, please visit this link to view Suzanne Perreault’s TED Talk. https://www.youtube.com/watch?v=gu5XFdT7q8k \nTo register\, please email Stacey Jones: sjones@deltasd335.upanupstage.com 
URL:https://www.deltasd335.upanupstage.com/event/a-parents-role-in-iep-development-online-session-with-suzanne-perreault/
CATEGORIES:Community,District
END:VEVENT
BEGIN:VEVENT
DTSTART;TZID=America/Vancouver:20210224T183000
DTEND;TZID=America/Vancouver:20210224T193000
DTSTAMP:20260419T112104
CREATED:20210203T195356Z
LAST-MODIFIED:20210203T202024Z
UID:7105-1614191400-1614195000@www.deltasd335.upanupstage.com
SUMMARY:Free Information Session:  Delta Early Childhood Education Post-Basic Studies for Special Needs and Infant/Toddler
DESCRIPTION:The Post-Basic studies program provides an opportunity for educational advancement for ECE graduates\, with advanced courses preparing graduates to work in integrated settings with children requiring extra support and/or to work with children under three years old. \nStudents may start in April\, September\, or January.    \nFor more detailed information about the program\, visit:  https://deltalearns.ca/eceprogram/2017/04/10/post-basic-studies-for-special-needs-and-infant-toddler/ \nONLINE ZOOM Information Meeting:   Please pre-register at http://connect37.deltasd335.upanupstage.com.  (you can search using event code ECE002-1). \nAll registrants will be e-mailed a Zoom meeting invitation prior to their session. \n 
URL:https://www.deltasd335.upanupstage.com/event/free-information-session-delta-early-childhood-education-post-basic-studies-for-special-needs-and-infant-toddler/
CATEGORIES:Community,District
END:VEVENT
BEGIN:VEVENT
DTSTART;TZID=America/Vancouver:20210220T100000
DTEND;TZID=America/Vancouver:20210220T110000
DTSTAMP:20260419T112104
CREATED:20210217T174921Z
LAST-MODIFIED:20210217T174921Z
UID:7215-1613815200-1613818800@www.deltasd335.upanupstage.com
SUMMARY:Film Academy Online Info Session
DESCRIPTION:Please register in advance here.
URL:https://www.deltasd335.upanupstage.com/event/film-academy-online-info-session/
CATEGORIES:Community,District
END:VEVENT
BEGIN:VEVENT
DTSTART;TZID=America/Vancouver:20210208T190000
DTEND;TZID=America/Vancouver:20210208T210000
DTSTAMP:20260419T112104
CREATED:20201023T203903Z
LAST-MODIFIED:20210105T001938Z
UID:6598-1612810800-1612818000@www.deltasd335.upanupstage.com
SUMMARY:Delta Teaching Assistant Certificate Program\, Fall 2021: Free Online Information Session
DESCRIPTION:At this online information session (Ref: DTAC002-F)\, a panel of speakers will provide details about the Delta Teaching Assistant Certificate program’s structure\, schedule\, and application process\, and about the role of an Education Assistant in public schools. \nPlease pre-register: https://cimsweb.deltasd335.upanupstage.com/publicconnect/DeCourse.aspx?id=DTAC002-F&prog=WK \nAll registrants will be e-mailed a Zoom meeting invitation prior to the session.
URL:https://www.deltasd335.upanupstage.com/event/delta-teaching-assistant-certificate-program-fall-2021-free-information-session/
LOCATION:Delta Manor Education Centre\, 4750 57 St.\, Delta\, BC\, V4K 3C9\, Canada
CATEGORIES:Community,District
END:VEVENT
BEGIN:VEVENT
DTSTART;TZID=America/Vancouver:20210204T183000
DTEND;TZID=America/Vancouver:20210204T200000
DTSTAMP:20260419T112104
CREATED:20210126T212210Z
LAST-MODIFIED:20210126T213913Z
UID:7066-1612463400-1612468800@www.deltasd335.upanupstage.com
SUMMARY:Online Session: Juggling Personal Life in the Context of COVID-19
DESCRIPTION:Please register in advance for this meeting: \nhttps://ca01web.zoom.us/meeting/register/u50qcOChrjItEt2I6IVgeMSXdfFoa_YwzxZB
URL:https://www.deltasd335.upanupstage.com/event/online-session-juggling-personal-life-in-the-context-of-covid-19/
CATEGORIES:Community,District
END:VEVENT
BEGIN:VEVENT
DTSTART;TZID=America/Vancouver:20210129T183000
DTEND;TZID=America/Vancouver:20210129T193000
DTSTAMP:20260419T112104
CREATED:20201119T213104Z
LAST-MODIFIED:20201119T213502Z
UID:6708-1611945000-1611948600@www.deltasd335.upanupstage.com
SUMMARY:Late French Immersion Q&A Session
DESCRIPTION:An Online Question and Answer Period will be held via Zoom on January 29th\, 2021 at 6:30pm to replace the Late French Immersion Parent Information Night that had been planned. \nTo join the Zoom Online Question and Answer periods on January 29th\, please register here: https://forms.gle/GkfMQ1PPU3UXQcYK6
URL:https://www.deltasd335.upanupstage.com/event/late-french-immersion-qa-session-2/
CATEGORIES:Community,District
ATTACH;FMTTYPE=image/jpeg:https://district.public.deltasd335.upanupstage.com/wp-content/uploads/sites/2/2017/07/Delta-Photos_0038_Delta.jpg
END:VEVENT
BEGIN:VEVENT
DTSTART;TZID=America/Vancouver:20210127T183000
DTEND;TZID=America/Vancouver:20210127T193000
DTSTAMP:20260419T112104
CREATED:20201119T212927Z
LAST-MODIFIED:20201124T183419Z
UID:6706-1611772200-1611775800@www.deltasd335.upanupstage.com
SUMMARY:Late French Immersion Q&A Session
DESCRIPTION:An Online Question and Answer Period will be held via Zoom on January 27th at 6:30pm to replace the Late French Immersion Parent Information Nights that had been planned. \nTo join the Zoom Online Question and Answer periods on January 27th\, please register here: https://forms.gle/GkfMQ1PPU3UXQcYK6
URL:https://www.deltasd335.upanupstage.com/event/late-french-immersion-qa-session/
CATEGORIES:Community,District
ATTACH;FMTTYPE=image/jpeg:https://district.public.deltasd335.upanupstage.com/wp-content/uploads/sites/2/2020/11/French-Immersion-photo.jpg
END:VEVENT
BEGIN:VEVENT
DTSTART;TZID=America/Vancouver:20210126T190000
DTEND;TZID=America/Vancouver:20210126T210000
DTSTAMP:20260419T112104
CREATED:20201023T203504Z
LAST-MODIFIED:20210105T001648Z
UID:6596-1611687600-1611694800@www.deltasd335.upanupstage.com
SUMMARY:Delta Teaching Assistant Certificate Program\, Fall 2021: Free Information Session (Online Zoom meeting)
DESCRIPTION:At this information session (Ref: DTAC002-Z) presented via Zoom web-conferencing\, a panel of speakers will provide details about the Delta Teaching Assistant Certificate program’s structure\, schedule\, and application process\, and about the role of an Education Assistant in public schools. \nPlease pre-register: https://cimsweb.deltasd335.upanupstage.com/publicconnect/DeCourse.aspx?id=DTAC002-Z&prog=WK \nAll registrants will be e-mailed a Zoom meeting invitation prior to the session.
URL:https://www.deltasd335.upanupstage.com/event/delta-teaching-assistant-certificate-program-fall-2021-free-information-session-online-zoom-meeting/
CATEGORIES:Community,District
END:VEVENT
BEGIN:VEVENT
DTSTART;TZID=America/Vancouver:20210122T160000
DTEND;TZID=America/Vancouver:20210122T170000
DTSTAMP:20260419T112104
CREATED:20201119T211148Z
LAST-MODIFIED:20201124T183316Z
UID:6702-1611331200-1611334800@www.deltasd335.upanupstage.com
SUMMARY:Late French Immersion Program Presentation
DESCRIPTION:Due to the current pandemic\, a pre-recorded Late French Immersion Information presentation will be made available on the Delta School District website on January 22nd\, 2021 at 4pm.
URL:https://www.deltasd335.upanupstage.com/event/late-french-immersion-information-presentation/
CATEGORIES:Community,District
ATTACH;FMTTYPE=image/jpeg:https://district.public.deltasd335.upanupstage.com/wp-content/uploads/sites/2/2020/11/French-Immersion-photo.jpg
END:VEVENT
BEGIN:VEVENT
DTSTART;TZID=America/Vancouver:20210120T190000
DTEND;TZID=America/Vancouver:20210120T203000
DTSTAMP:20260419T112104
CREATED:20210106T000244Z
LAST-MODIFIED:20210119T192053Z
UID:6917-1611169200-1611174600@www.deltasd335.upanupstage.com
SUMMARY:Online workshop: Parents as Education and Career Coaches
DESCRIPTION:Please join us for this virtual interactive session. Registration is required: https://rb.gy/mphdae \n 
URL:https://www.deltasd335.upanupstage.com/event/online-workshop-parents-as-career-and-education-coaches/
CATEGORIES:Community,District
END:VEVENT
BEGIN:VEVENT
DTSTART;TZID=America/Vancouver:20210111T190000
DTEND;TZID=America/Vancouver:20210111T210000
DTSTAMP:20260419T112104
CREATED:20201023T203232Z
LAST-MODIFIED:20210105T001808Z
UID:6594-1610391600-1610398800@www.deltasd335.upanupstage.com
SUMMARY:Delta Teaching Assistant Certificate Program\, Fall 2021: Free Online Information Session
DESCRIPTION:During this online session (ref: DTAC002-J)\, a panel of speakers will provide details about the Delta Teaching Assistant Certificate program’s structure\, schedule\, and application process\, and about the role of an Education Assistant in public schools. \nPlease pre-register at https://cimsweb.deltasd335.upanupstage.com/publicconnect/DeCourse.aspx?id=DTAC002-J&prog=WK \nAll registrants will be e-mailed a Zoom meeting invitation prior to the session.
URL:https://www.deltasd335.upanupstage.com/event/delta-teaching-assistant-certificate-program-fall-2021-free-information-session-in-person-meeting/
LOCATION:Delta Manor Education Centre\, 4750 57 St.\, Delta\, BC\, V4K 3C9\, Canada
CATEGORIES:Community,District
END:VEVENT
BEGIN:VEVENT
DTSTART;TZID=America/Vancouver:20201217T183000
DTEND;TZID=America/Vancouver:20201217T200000
DTSTAMP:20260419T112104
CREATED:20201209T190934Z
LAST-MODIFIED:20201209T191607Z
UID:6833-1608229800-1608235200@www.deltasd335.upanupstage.com
SUMMARY:Online session: Managing Stress During These Uncertain Times
DESCRIPTION:Register here for this event: https://ca01web.zoom.us/meeting/register/u5ctce2rrzIsGtwZw4pNDrzCUfrVAwh4sb11
URL:https://www.deltasd335.upanupstage.com/event/online-session-managing-stress-during-these-uncertain-times/
CATEGORIES:Community,District
END:VEVENT
BEGIN:VEVENT
DTSTART;TZID=America/Vancouver:20201216T183000
DTEND;TZID=America/Vancouver:20201216T200000
DTSTAMP:20260419T112104
CREATED:20201209T190713Z
LAST-MODIFIED:20201209T190713Z
UID:6828-1608143400-1608148800@www.deltasd335.upanupstage.com
SUMMARY:Online session in Punjabi: Managing Stress During These Uncertain Times
DESCRIPTION:Register here for this event: https://ca01web.zoom.us/meeting/register/u5Yucu2vrDIjGdJj6v5xpd8Y4CB9uj5oNnlM
URL:https://www.deltasd335.upanupstage.com/event/online-session-in-punjabi-managing-stress-during-these-uncertain-times/
CATEGORIES:Community,District
END:VEVENT
BEGIN:VEVENT
DTSTART;TZID=America/Vancouver:20201215T183000
DTEND;TZID=America/Vancouver:20201215T203000
DTSTAMP:20260419T112104
CREATED:20201207T195539Z
LAST-MODIFIED:20201207T195539Z
UID:6808-1608057000-1608064200@www.deltasd335.upanupstage.com
SUMMARY:Online session: Breaking Down the Stigma in Substance Use and Addiction
DESCRIPTION:Please register in advance: https://ca01web.zoom.us/meeting/register/u5YlcuiqpzovH9Qq_9B_NpKC_2cWywPTMrty
URL:https://www.deltasd335.upanupstage.com/event/online-session-breaking-down-the-stigma-in-substance-use-and-addiction/
CATEGORIES:Community,District
END:VEVENT
BEGIN:VEVENT
DTSTART;TZID=America/Vancouver:20201210T183000
DTEND;TZID=America/Vancouver:20201210T200000
DTSTAMP:20260419T112104
CREATED:20201203T173527Z
LAST-MODIFIED:20201203T173527Z
UID:6780-1607625000-1607630400@www.deltasd335.upanupstage.com
SUMMARY:Online session: Trauma and Compassion in the Wake of COVID-19
DESCRIPTION:https://ca01web.zoom.us/meeting/register/u5AuceqoqTIqGNCuf4yypWJ6ZYG4suti7D6h
URL:https://www.deltasd335.upanupstage.com/event/online-session-trauma-and-compassion-in-the-wake-of-covid-19/
CATEGORIES:Community,District
END:VEVENT
BEGIN:VEVENT
DTSTART;TZID=America/Vancouver:20201208T180000
DTEND;TZID=America/Vancouver:20201208T200000
DTSTAMP:20260419T112104
CREATED:20201203T191952Z
LAST-MODIFIED:20201203T191952Z
UID:6791-1607450400-1607457600@www.deltasd335.upanupstage.com
SUMMARY:IB Program: Online Q&A Session
DESCRIPTION:A parent information presentation is available now on the Seaquam IB website: https://sites.google.com/site/seaquamib/ Please visit the ‘Seaquam IB forms’ tab of the website and scroll down to the section entitled ‘2023 cohort’ to access the recording\, which is titled: Parent Presentation IB.mp4. \nIf parents have follow-up questions or require further\, specific clarification\, a meeting via zoom will occur on December 8\, 2020 at 6pm. \nPre-registration is required. Click here to register: https://forms.gle/ZKzZVmkLEXLNuTf46 \n  \n 
URL:https://www.deltasd335.upanupstage.com/event/ib-program-online-qa-session/
CATEGORIES:Community,District
END:VEVENT
BEGIN:VEVENT
DTSTART;TZID=America/Vancouver:20201203T183000
DTEND;TZID=America/Vancouver:20201203T203000
DTSTAMP:20260419T112104
CREATED:20201127T003659Z
LAST-MODIFIED:20201127T003905Z
UID:6765-1607020200-1607027400@www.deltasd335.upanupstage.com
SUMMARY:Managing Stress During These Uncertain Times - Workshop for Punjabi Speakers
DESCRIPTION:Please register in advance using this link: https://ca01web.zoom.us/meeting/register/u5ErcuyqqjooHNwppexMO_VaGuyegKvFZ9pE
URL:https://www.deltasd335.upanupstage.com/event/managing-stress-during-these-uncertain-times-workshop-for-punjabi-speakers/
CATEGORIES:Community,District
END:VEVENT
BEGIN:VEVENT
DTSTART;TZID=America/Vancouver:20201202T190000
DTEND;TZID=America/Vancouver:20201202T203000
DTSTAMP:20260419T112104
CREATED:20201127T171546Z
LAST-MODIFIED:20201127T171546Z
UID:6769-1606935600-1606941000@www.deltasd335.upanupstage.com
SUMMARY:EducationPlannerBC: Parents as Education and Career Coaches
DESCRIPTION:Please register in advance: https://sfu.zoom.us/meeting/register/tZwscOuprTwuG9TlvXfxl1L2XWMkOJZoNWu1
URL:https://www.deltasd335.upanupstage.com/event/educationplannerbc-parents-as-education-and-career-coaches/
CATEGORIES:Community,District
END:VEVENT
BEGIN:VEVENT
DTSTART;TZID=America/Vancouver:20201202T183000
DTEND;TZID=America/Vancouver:20201202T193000
DTSTAMP:20260419T112104
CREATED:20201119T180417Z
LAST-MODIFIED:20201124T182113Z
UID:6695-1606933800-1606937400@www.deltasd335.upanupstage.com
SUMMARY:Early French Immersion - Question and Answer Session
DESCRIPTION:A Question and Answer period will be held via Zoom on December 2nd at 6:30pm to replace the in-person Early French Immersion Parent Information Nights that were previously planned. \nTo join the Zoom On-line Question and Answer periods on December 2nd at 6:30pm\, please register for the Parent Question and Answer on our website here: https://forms.gle/93EgMGzYZXUpebrP6
URL:https://www.deltasd335.upanupstage.com/event/early-french-immersion-question-and-answer-session-2/
CATEGORIES:Community,District
ATTACH;FMTTYPE=image/jpeg:https://district.public.deltasd335.upanupstage.com/wp-content/uploads/sites/2/2020/11/French-Immersion-3.jpg
END:VEVENT
BEGIN:VEVENT
DTSTART;TZID=America/Vancouver:20201201T183000
DTEND;TZID=America/Vancouver:20201201T193000
DTSTAMP:20260419T112104
CREATED:20201119T180140Z
LAST-MODIFIED:20201124T182048Z
UID:6693-1606847400-1606851000@www.deltasd335.upanupstage.com
SUMMARY:Early French Immersion - Question and Answer Session
DESCRIPTION:A Question and Answer period will be held via Zoom on December 1st at 6:30pm  to replace the in-person Early French Immersion Parent Information Nights that were previously planned. \nTo join the Zoom On-line Question and Answer periods on Dec 1st\, please register for the Parent Question and Answer on our website here: https://forms.gle/93EgMGzYZXUpebrP6
URL:https://www.deltasd335.upanupstage.com/event/early-french-immersion-question-and-answer-session/
CATEGORIES:Community,District
ATTACH;FMTTYPE=image/jpeg:https://district.public.deltasd335.upanupstage.com/wp-content/uploads/sites/2/2020/11/French-Immersion-3.jpg
END:VEVENT
BEGIN:VEVENT
DTSTART;TZID=America/Vancouver:20201126T183000
DTEND;TZID=America/Vancouver:20201126T203000
DTSTAMP:20260419T112104
CREATED:20201119T220319Z
LAST-MODIFIED:20201120T175818Z
UID:6711-1606415400-1606422600@www.deltasd335.upanupstage.com
SUMMARY:Online Session: Managing Mental and Emotional Wellness During COVID-19
DESCRIPTION:Due to the popularity of our earlier sessions\, we are repeating this online session on November 26. \nPlease register in advance using this link: https://alongsideyou.zoom.us/webinar/register/WN_rqdrnLaIRg65T2wRALp_nQ
URL:https://www.deltasd335.upanupstage.com/event/online-session-managing-mental-and-emotional-wellness-during-covid-19-2/
CATEGORIES:Community,District
END:VEVENT
BEGIN:VEVENT
DTSTART;TZID=America/Vancouver:20201125T160000
DTEND;TZID=America/Vancouver:20201125T170000
DTSTAMP:20260419T112104
CREATED:20201119T174024Z
LAST-MODIFIED:20201124T181957Z
UID:6691-1606320000-1606323600@www.deltasd335.upanupstage.com
SUMMARY:Early French Immersion Parent Information Session
DESCRIPTION:Due to the current Pandemic\, a pre-recorded Early French Immersion Information presentation will be made available on the Delta School District website on November 25th at 4pm.
URL:https://www.deltasd335.upanupstage.com/event/early-french-immersion-parent-information-night/
CATEGORIES:Community,District
ATTACH;FMTTYPE=image/jpeg:https://district.public.deltasd335.upanupstage.com/wp-content/uploads/sites/2/2020/11/French-Immersion-3.jpg
END:VEVENT
BEGIN:VEVENT
DTSTART;TZID=America/Vancouver:20201112T183000
DTEND;TZID=America/Vancouver:20201112T203000
DTSTAMP:20260419T112104
CREATED:20201109T225615Z
LAST-MODIFIED:20201109T231807Z
UID:6631-1605205800-1605213000@www.deltasd335.upanupstage.com
SUMMARY:An Online Session with Suzanne Perreault
DESCRIPTION:To register\, please email Stacey Jones: sjones@deltasd335.upanupstage.com \n 
URL:https://www.deltasd335.upanupstage.com/event/an-online-session-with-suzanne-perreault-thursday-november-12/
CATEGORIES:Community,District
ATTACH;FMTTYPE=image/jpeg:https://district.public.deltasd335.upanupstage.com/wp-content/uploads/sites/2/2020/11/Suzanne-Perreault-Nov-2020.jpg
END:VEVENT
BEGIN:VEVENT
DTSTART;TZID=America/Vancouver:20201112T183000
DTEND;TZID=America/Vancouver:20201112T203000
DTSTAMP:20260419T112104
CREATED:20201028T190252Z
LAST-MODIFIED:20201028T190333Z
UID:6604-1605205800-1605213000@www.deltasd335.upanupstage.com
SUMMARY:Online session: Managing Mental and Emotional Wellness During COVID-19
DESCRIPTION:Due to the popularity of our first session on October 28\, we are repeating this online session on November 12. Please register in advance using this link: https://alongsideyou.zoom.us/webinar/register/WN_M8wS_YyzR6eVwzuz0Odi4A
URL:https://www.deltasd335.upanupstage.com/event/online-session-managing-mental-and-emotional-wellness-during-covid-19/
CATEGORIES:Community,District
ATTACH;FMTTYPE=image/jpeg:https://district.public.deltasd335.upanupstage.com/wp-content/uploads/sites/2/2020/10/Nov-12-Alongside-You-Parent-Event-1.jpg
END:VEVENT
BEGIN:VEVENT
DTSTART;TZID=America/Vancouver:20201029T190000
DTEND;TZID=America/Vancouver:20201029T210000
DTSTAMP:20260419T112104
CREATED:20201016T182421Z
LAST-MODIFIED:20201016T220332Z
UID:6563-1603998000-1604005200@www.deltasd335.upanupstage.com
SUMMARY:Managing Mental and Emotional Wellness During COVID-19
DESCRIPTION:Registration required: https://alongsideyou.zoom.us/webinar/register/WN_rnSxaxPpQlWOMTBU7eS4Ig
URL:https://www.deltasd335.upanupstage.com/event/managing-mental-and-emotional-wellness-during-covid-19/
CATEGORIES:Community,District
ATTACH;FMTTYPE=image/jpeg:https://district.public.deltasd335.upanupstage.com/wp-content/uploads/sites/2/2020/10/Oct-22-Andrew-Neufeld-evenT.jpg
END:VEVENT
BEGIN:VEVENT
DTSTART;TZID=America/Vancouver:20201022T183000
DTEND;TZID=America/Vancouver:20201022T200000
DTSTAMP:20260419T112104
CREATED:20201008T225122Z
LAST-MODIFIED:20201008T225625Z
UID:6542-1603391400-1603396800@www.deltasd335.upanupstage.com
SUMMARY:Online session with inclusion advocate Suzanne Perreault
DESCRIPTION:Registration required: Please email Stacey Jones at sjones@deltasd335.upanupstage.com
URL:https://www.deltasd335.upanupstage.com/event/online-session-with-inclusion-advocate-suzanne-perreault-2/
CATEGORIES:Community,District
END:VEVENT
BEGIN:VEVENT
DTSTART;TZID=America/Vancouver:20201015T183000
DTEND;TZID=America/Vancouver:20201015T200000
DTSTAMP:20260419T112104
CREATED:20201008T224856Z
LAST-MODIFIED:20201008T224945Z
UID:6538-1602786600-1602792000@www.deltasd335.upanupstage.com
SUMMARY:Online Session with inclusion advocate Suzanne Perreault
DESCRIPTION:Registration required: Please email Stacey Jones indicating which date you wish to register for: sjones@deltasd335.upanupstage.com
URL:https://www.deltasd335.upanupstage.com/event/online-session-with-inclusion-advocate-suzanne-perreault/
CATEGORIES:Community,District
END:VEVENT
END:VCALENDAR